{"text_format":"1","workbook":"xlsx","n_sheets":16,"sheets":["Flujo de caja (2)","Rendimientos & Supuestos ","Distribución Cultivos en Lotes","Actividades","Diagrama de Gantt","Px Insumos","Px Maquinaria","Costos de Ventas","Gastos Operativos","Presupuesto Cultivo Maíz","Presupuesto Cultivo Soya","Presupuesto General","PE$ - Múltiples Productos","Estado de Resultados","BG","Flujo de caja"],"not_rendered":{"charts":1,"images":2,"macros":1,"external_links":2,"defined_names":74,"comments":3,"pivot_tables":0},"unopened":[],"bounds":{"document_bytes":16777216,"sheet_cells":100000,"rows_first":2000,"rows_last":500,"rows_between":2000,"halvings":0,"cell_chars":16384,"cell_head_chars":4096},"cells_cut":0,"cells_raw":0,"read":"whole","date_system":"1900"}

{"sheet":"Flujo de caja (2)","index":0,"n_rows":145,"n_cols":8,"rows_kept":145,"cut":false,"hidden":false,"merged":[[42,0,42,2],[47,0,47,2],[83,0,84,0],[83,2,83,6],[89,0,89,6],[96,1,96,2]]}
["Variables"]
["Horizonte de Evaluación (años)",{"$f":"'[2]Rendimientos & Supuestos '!D6","v":5}]
[null,"AÑO 1","AÑO 2","AÑO 3","AÑO 4","AÑO 5"]
["Venta de semillas",{"$f":"[2]ER!$Z$6","v":18747727.272727273},{"$f":"B4+(B4*$B$10)","v":19310159.09090909},{"$f":"C4+(C4*$B$10)","v":19889463.863636363},{"$f":"D4+(D4*$B$10)","v":20486147.779545452},{"$f":"E4+(E4*$B$10)","v":21100732.212931816}]
[]
[null,"AÑO 0","AÑO 1","AÑO 2","AÑO 3","AÑO 4","AÑO 5"]
["K trabajo ",{"$f":"([2]ER!$Z$9/12)*'[2]Rendimientos & Supuestos '!$D$7","v":3858988.2986838645},{"$f":"B7+(B7*$B$10)","v":3974757.9476443804},{"$f":"C7+(C7*$B$10)","v":4094000.6860737116},{"$f":"D7+(D7*$B$10)","v":4216820.7066559233},{"$f":"E7+(E7*$B$10)","v":4343325.327855601},{"$f":"F7+(F7*$B$10)","v":4473625.0876912689}]
["Costo variable unitario ",null,{"$f":"'[2]Gastos operación'!E22+'[2]Gastos operación'!$E$21","v":13103294.707598001},{"$f":"C8+(C8*$B$10)","v":13496393.54882594},{"$f":"D8+(D8*$B$10)","v":13901285.355290718},14318323.91594944,14747873.633427924]
["Gastos de operación",null,{"$f":"'[2]Gastos operación'!E25-'[2]Gastos operación'!E22","v":3641960.8799999803},{"$f":"C9+(C9*$B$10)","v":3751219.7063999795},3863756.2975919787,3979668.9865197381,4099059.0561153302]
["Inflación",{"$f":"'[2]Rendimientos & Supuestos '!$D$16","v":0.03}]
["Inversión en activos fijos",{"$f":"[2]Inversiones!$H$23","v":929066.66666666674}]
["Inversión en preoperativos"]
["Vida útil de equipos (años)",2,5,10]
["Tasa de corte ",{"$f":"'[2]Rendimientos & Supuestos '!D12","v":0.3}]
["Tasa ISR",{"$f":"'[2]Rendimientos & Supuestos '!D13","v":0.25}]
["Financiamiento bancario (valor)",{"$f":"'[2]Rendimientos & Supuestos '!D11","v":2394027.4826752655}]
["Financiamiento bancario (tasa)",{"$f":"'[2]Rendimientos & Supuestos '!$D$9","v":0.18}]
["Financiamiento bancario (años)",{"$f":"'[2]Rendimientos & Supuestos '!D10","v":5}]
[]
["1. Ingresos del proyecto"]
["Calendario de ingresos "]
["Concepto","Año 0","Año 1","Año 2","Año 3","Año 4","Año 5"]
["Cantidad (QQ)",null,{"$f":"[2]ER!Z8","v":9020},{"$f":"C23","v":9020},{"$f":"D23","v":9020},{"$f":"E23","v":9020},{"$f":"F23","v":9020}]
["Precio de venta ($)",null,{"$f":"[2]Productos!AB11","v":83.138480145132036},{"$f":"C24+(C24*$B$10)","v":85.632634549485999},{"$f":"D24+(D24*$B$10)","v":88.201613585970577},90.847661993549693,93.573091853356189]
["Ingresos por venta semilla",null,{"$f":"[2]ER!Z6","v":18747727.272727273},{"$f":"C25+(C25*$B$10)","v":19310159.09090909},19889463.863636363,20486147.779545452,21100732.212931816]
["Ingresos por capacitaciones",null,0,0,0,0,0]
["Ingresos Brutos",null,{"$f":"C25+C26","v":18747727.272727273},{"$f":"D25+D26","v":19310159.09090909},19889463.863636363,20486147.779545452,21100732.212931816]
[]
["2. Costos variables"]
["Calendario de costos variables"]
["Concepto","Año 0","Año 1","Año 2","Año 3","Año 4","Año 5"]
["Costo variable total",null,{"$f":"C8","v":13103294.707598001},{"$f":"D8","v":13496393.54882594},{"$f":"E8","v":13901285.355290718},{"$f":"F8","v":14318323.91594944},{"$f":"G8","v":14747873.633427924}]
["Total de costos variables",null,{"$f":"SUM(C32:C32)","v":13103294.707598001},{"$f":"SUM(D32:D32)","v":13496393.54882594},{"$f":"SUM(E32:E32)","v":13901285.355290718},{"$f":"SUM(F32:F32)","v":14318323.91594944},{"$f":"SUM(G32:G32)","v":14747873.633427924}]
[]
["3. Costos  fijos "]
["Calendario de los costos fijos"]
["Concepto","Año 0","Año 1","Año 2","Año 3","Año 4","Año 5"]
["Gastos de operación",null,{"$f":"C9","v":3641960.8799999803},{"$f":"D9","v":3751219.7063999795},{"$f":"E9","v":3863756.2975919787},{"$f":"F9","v":3979668.9865197381},{"$f":"G9","v":4099059.0561153302}]
["Total de costos fijos",null,{"$f":"SUM(C38:C38)","v":3641960.8799999803},{"$f":"SUM(D38:D38)","v":3751219.7063999795},{"$f":"SUM(E38:E38)","v":3863756.2975919787},{"$f":"SUM(F38:F38)","v":3979668.9865197381},{"$f":"SUM(G38:G38)","v":4099059.0561153302}]
[]
["4. Capital de trabajo"]
["Capital de trabajo"]
["Necesidad de Efectivo"]
["Concepto","Cobertura","Año 1","Año 7","Año 8","Año 9","Año 10"]
["Capital de trabajo",null,{"$f":"B7","v":3858988.2986838645},{"$f":"C7","v":3974757.9476443804},{"$f":"D7","v":4094000.6860737116},{"$f":"E7","v":4216820.7066559233},{"$f":"F7","v":4343325.327855601}]
["Efectivo requerido en caja",null,{"$f":"SUM(C45:C45)","v":3858988.2986838645},{"$f":"SUM(D45:D45)","v":3974757.9476443804},{"$f":"SUM(E45:E45)","v":4094000.6860737116},{"$f":"SUM(F45:F45)","v":4216820.7066559233},{"$f":"SUM(G45:G45)","v":4343325.327855601}]
[]
["Cálculo del Capital de Trabajo"]
["Concepto","Cobertura","Año 1","Año 2","Año 3","Año 4","Año 5"]
["Activo circulante",null,{"$f":"C51","v":3858988.2986838645},{"$f":"D51","v":3974757.9476443804},{"$f":"E51","v":4094000.6860737116},{"$f":"F51","v":4216820.7066559233},{"$f":"G51","v":4343325.327855601}]
["     Efectivo ",null,{"$f":"C46","v":3858988.2986838645},{"$f":"D46","v":3974757.9476443804},{"$f":"E46","v":4094000.6860737116},{"$f":"F46","v":4216820.7066559233},{"$f":"G46","v":4343325.327855601}]
["Pasivo circulante",null,{"$f":"SUM(C53:C54)","v":0},{"$f":"SUM(D53:D54)","v":0},{"$f":"SUM(E53:E54)","v":0},{"$f":"SUM(F53:F54)","v":0},{"$f":"SUM(G53:G54)","v":0}]
["     Cuentas por pagar",null,0,0,0,0,0]
["     Proveedores",null,0,0,0,0,0]
["Capital de Trabajo (Ac - Pc)",null,{"$f":"C50-C52","v":3858988.2986838645},{"$f":"D50-D52","v":3974757.9476443804},{"$f":"E50-E52","v":4094000.6860737116},{"$f":"F50-F52","v":4216820.7066559233},{"$f":"G50-G52","v":4343325.327855601}]
["Incremento Capital Trabajo",{"$f":"C55-B55","v":3858988.2986838645},{"$f":"D55-C55","v":115769.64896051586},{"$f":"E55-D55","v":119242.73842933122},122820.02058221167,126504.6211996777,{"$f":"H55-G55","v":-4343325.327855601}]
[]
["5. Inversiones"]
["Calendario de inversiones"]
["Concepto","Año 0","Año 1","Año 2","Año 3","Año 4","Año 5"]
["Activos Fijos"]
["Inversiones 3 años",{"$f":"[2]Inversiones!H8+[2]Inversiones!H9","v":539066.66666666674},null,null,{"$f":"FV(B10,3,,-B62)","v":589052.70146666677}]
["Inversiones 5 años",{"$f":"[2]Inversiones!H10+[2]Inversiones!H11","v":390000}]
["Inversiones 10 años"]
["Gastos Pre-operativos"]
["  Gastos puesta en marcha",{"$f":"B12","v":0}]
["Capital de trabajo"]
["   Capital de trabajo",{"$f":"B56","v":3858988.2986838645},115769.64896051586,119242.73842933122,122820.02058221167,126504.6211996777,-4343325.327855601]
["Total Inversiones",{"$f":"SUM(B61:B68)","v":4788054.965350531},{"$f":"SUM(C61:C68)","v":115769.64896051586},{"$f":"SUM(D61:D68)","v":119242.73842933122},{"$f":"SUM(E61:E68)","v":711872.72204887844},{"$f":"SUM(F61:F68)","v":126504.6211996777},{"$f":"SUM(G61:G68)","v":-4343325.327855601}]
[]
["6.  Depreciaciones y Amortizaciones"]
["Calendario de Depreciaciones y Amortizaciones"]
["Concepto","Año 0","Año 1","Año 2","Año 3","Año 4","Año 5"]
["Inversiones 3 años",null,{"$f":"$B$62/3","v":179688.88888888891},{"$f":"$B$62/3","v":179688.88888888891},{"$f":"$B$62/3","v":179688.88888888891},{"$f":"$E$62/3","v":196350.90048888893},{"$f":"$E$62/3","v":196350.90048888893}]
["Inversiones 5 años",null,{"$f":"$B$63/5","v":78000},{"$f":"$B$63/5","v":78000},{"$f":"$B$63/5","v":78000},{"$f":"$B$63/5","v":78000},{"$f":"$B$63/5","v":78000}]
["Inversiones 10 años",null,{"$f":"$B$64/10","v":0},{"$f":"$B$64/10","v":0},{"$f":"$B$64/10","v":0},{"$f":"$B$64/10","v":0},{"$f":"$B$64/10","v":0}]
["Total Depreciación",null,{"$f":"SUM(C74:C76)","v":257688.88888888891},{"$f":"SUM(D74:D76)","v":257688.88888888891},{"$f":"SUM(E74:E76)","v":257688.88888888891},{"$f":"SUM(F74:F76)","v":274350.90048888896},{"$f":"SUM(G74:G76)","v":274350.90048888896}]
[]
["Amortización pre-operativos",null,{"$f":"$B$66/5","v":0},{"$f":"$B$66/5","v":0},{"$f":"$B$66/5","v":0},{"$f":"$B$66/5","v":0},{"$f":"$B$66/5","v":0}]
["Total Amortización",null,{"$f":"SUM(C79)","v":0},{"$f":"SUM(D79)","v":0},{"$f":"SUM(E79)","v":0},{"$f":"SUM(F79)","v":0},{"$f":"SUM(G79)","v":0}]
[]
["7. Valor de desecho del proyecto"]
["Cálculo del valor de desecho del proyecto (método contable)"]
["Concepto","Valor del","Depreciación por periodo",null,null,null,null,"Valor de"]
[null,"Activo","Año 1","Año 2","Año 3","Año 4","Año 5","Desecho"]
["Inversiones 3 años",{"$f":"B62+E62","v":1128119.3681333335},{"$f":"C74","v":179688.88888888891},{"$f":"D74","v":179688.88888888891},179688.88888888891,196350.90048888893,196350.90048888893,{"$f":"B86-SUM(C86:G86)","v":196350.90048888884}]
["Inversiones 5 años",{"$f":"B63","v":390000},{"$f":"C75","v":78000},78000,78000,78000,78000,{"$f":"B87-SUM(C87:G87)","v":0}]
["Inversiones 10 años",{"$f":"B64","v":0},0,0,0,0,0,{"$f":"B88-SUM(C88:G88)","v":0}]
["Amortización pre-operativos",{"$f":"B66","v":0},{"$f":"C79","v":0},{"$f":"D79","v":0},{"$f":"E79","v":0},{"$f":"F79","v":0},{"$f":"G79","v":0},{"$f":"B89-SUM(C89:G89)","v":0}]
["Valor de desecho total",null,null,null,null,null,null,{"$f":"SUM(H86:H89)","v":196350.90048888884}]
[]
["8. Financiamiento"]
["Cálculo del Financiamiento"]
["Financiamiento bancario (valor)",{"$f":"B16","v":2394027.4826752655}]
["Financiamiento bancario (tasa)",{"$f":"B17","v":0.18}]
["Financiamiento bancario (periodos)",{"$f":"B18","v":5},"años"]
["Modalidad","Pagos exactos"]
[]
["Concepto","Año 0","Año 1","Año 2","Año 3","Año 4","Año 5"]
["Saldo crédito ",{"$f":"B94","v":2394027.4826752655},{"$f":"B100-C103","v":2059395.4879495103},{"$f":"C100-D103","v":1664529.7341731191},{"$f":"D100-E103","v":1198588.1447169776},{"$f":"E100-F103","v":648777.06915873056},{"$f":"F100-G103","v":-9.3132257461547852E-10}]
["Cuota mensual (anualidad)",null,{"$f":"PMT($B$95,$B$96,-$B$94)","v":765556.94160730299},{"$f":"PMT($B$95,$B$96,-$B$94)","v":765556.94160730299},{"$f":"PMT($B$95,$B$96,-$B$94)","v":765556.94160730299},{"$f":"PMT($B$95,$B$96,-$B$94)","v":765556.94160730299},{"$f":"PMT($B$95,$B$96,-$B$94)","v":765556.94160730299}]
["Intereses",null,{"$f":"B100*$B$95","v":430924.9468815478},{"$f":"C100*$B$95","v":370691.18783091183},{"$f":"D100*$B$95","v":299615.35215116141},{"$f":"E100*$B$95","v":215745.86604905597},{"$f":"F100*$B$95","v":116779.87244857149}]
["Abono a capital (amortización)",null,{"$f":"C101-C102","v":334631.99472575518},{"$f":"D101-D102","v":394865.75377639115},{"$f":"E101-E102","v":465941.58945614158},{"$f":"F101-F102","v":549811.07555824704},{"$f":"G101-G102","v":648777.06915873149}]
[]
["9.Flujo de caja del proyecto"]
["Flujo de caja del proyecto (con) Financiamiento)"]
["Concepto","Año 0","Año 1","Año 2","Año 3","Año 4","Año 5"]
["+ Ingreso por ventas",null,{"$f":"C27","v":18747727.272727273},{"$f":"D27","v":19310159.09090909},{"$f":"E27","v":19889463.863636363},{"$f":"F27","v":20486147.779545452},{"$f":"G27","v":21100732.212931816}]
["- Egresos deducibles de impuestos",null,{"$f":"SUM(C110:C112)","v":17176180.534479529},{"$f":"SUM(D110:D112)","v":17618304.443056829},{"$f":"SUM(E110:E112)","v":18064657.005033858},{"$f":"SUM(F110:F112)","v":18513738.768518232},{"$f":"SUM(G110:G112)","v":18963712.561991826}]
["     Costos variables",null,{"$f":"C33","v":13103294.707598001},{"$f":"D33","v":13496393.54882594},{"$f":"E33","v":13901285.355290718},{"$f":"F33","v":14318323.91594944},{"$f":"G33","v":14747873.633427924}]
["     Costos Fijos",null,{"$f":"C39","v":3641960.8799999803},{"$f":"D39","v":3751219.7063999795},{"$f":"E39","v":3863756.2975919787},{"$f":"F39","v":3979668.9865197381},{"$f":"G39","v":4099059.0561153302}]
["     Gastos financieros",null,{"$f":"C102","v":430924.9468815478},{"$f":"D102","v":370691.18783091183},{"$f":"E102","v":299615.35215116141},{"$f":"F102","v":215745.86604905597},{"$f":"G102","v":116779.87244857149}]
["- Gastos no desembolsables",null,{"$f":"SUM(C114:C115)","v":257688.88888888891},{"$f":"SUM(D114:D115)","v":257688.88888888891},{"$f":"SUM(E114:E115)","v":257688.88888888891},{"$f":"SUM(F114:F115)","v":274350.90048888896},{"$f":"SUM(G114:G115)","v":274350.90048888896}]
["     Depreciación de activos",null,{"$f":"C77","v":257688.88888888891},{"$f":"D77","v":257688.88888888891},{"$f":"E77","v":257688.88888888891},{"$f":"F77","v":274350.90048888896},{"$f":"G77","v":274350.90048888896}]
["     Amortización de pre-operativos",null,{"$f":"C79","v":0},{"$f":"D79","v":0},{"$f":"E79","v":0},{"$f":"F79","v":0},{"$f":"G79","v":0}]
["= Utilidad antes de impuestos",null,{"$f":"C108-C109-C113","v":1313857.8493588557},{"$f":"D108-D109-D113","v":1434165.7589633716},{"$f":"E108-E109-E113","v":1567117.9697136162},{"$f":"F108-F109-F113","v":1698058.1105383318},{"$f":"G108-G109-G113","v":1862668.750451101}]
["- Impuestos (15%)",null,{"$f":"C116*$B$15","v":328464.46233971394},{"$f":"D116*$B$15","v":358541.43974084291},{"$f":"E116*$B$15","v":391779.49242840405},{"$f":"F116*$B$15","v":424514.52763458295},{"$f":"G116*$B$15","v":465667.18761277525}]
["= Utilidad después de impuestos",null,{"$f":"C116-C117","v":985393.38701914181},{"$f":"D116-D117","v":1075624.3192225287},{"$f":"E116-E117","v":1175338.4772852121},{"$f":"F116-F117","v":1273543.5829037488},{"$f":"G116-G117","v":1397001.5628383257}]
["+ Gastos no desembolsables",null,{"$f":"SUM(C120:C121)","v":257688.88888888891},{"$f":"SUM(D120:D121)","v":257688.88888888891},{"$f":"SUM(E120:E121)","v":257688.88888888891},{"$f":"SUM(F120:F121)","v":274350.90048888896},{"$f":"SUM(G120:G121)","v":274350.90048888896}]
["     Depreciación de activos",null,{"$f":"C114","v":257688.88888888891},{"$f":"D114","v":257688.88888888891},257688.88888888891,274350.90048888896,274350.90048888896]
["     Amortización de pre-operativos",null,{"$f":"C115","v":0},0,0,0,0]
["+ Ingresos no sujetos a impuestos",{"$f":"SUM(B123:B125)","v":2394027.4826752655},{"$f":"SUM(C123:C125)","v":0},0,0,0,4539676.2283444898]
["     Valor de desecho",null,null,null,null,null,{"$f":"H90","v":196350.90048888884}]
["     Recuperación del capital de trabajo",null,null,null,null,null,{"$f":"-G69","v":4343325.327855601}]
["     Préstamo bancario",{"$f":"B94","v":2394027.4826752655}]
["- Egresos no deducibles de impuestos",{"$f":"SUM(B127:B132)","v":4788054.965350531},{"$f":"SUM(C127:C132)","v":450401.64368627104},{"$f":"SUM(D127:D132)","v":514108.49220572237},588761.61003835325,676315.69675792474,648777.06915873149]
["     Activos (2 años)",{"$f":"B62","v":539066.66666666674}]
["     Activos (5 años)",{"$f":"B63","v":390000}]
["     Activos (10 años)",{"$f":"B64","v":0}]
["     Gastos de puesta en marcha (pre-operativos)",{"$f":"B66","v":0}]
["     Inversión en capital de trabajo",{"$f":"B68","v":3858988.2986838645},{"$f":"C68","v":115769.64896051586},{"$f":"D68","v":119242.73842933122},{"$f":"E68","v":122820.02058221167},{"$f":"F68","v":126504.6211996777}]
["     Pago préstamo bancario",null,{"$f":"C103","v":334631.99472575518},{"$f":"D103","v":394865.75377639115},{"$f":"E103","v":465941.58945614158},{"$f":"F103","v":549811.07555824704},{"$f":"G103","v":648777.06915873149}]
["= Flujo de caja",{"$f":"B118+B119+B122-B126","v":-2394027.4826752655},{"$f":"C118+C119+C122-C126","v":792680.63222175976},{"$f":"D118+D119+D122-D126","v":819204.71590569534},844265.75613574788,871578.78663471295,5562251.6225129738]
["Flujo de caja acumulado",{"$f":"B133","v":-2394027.4826752655},{"$f":"B134+C133","v":-1601346.8504535058},{"$f":"C134+D133","v":-782142.13454781042},{"$f":"D134+E133","v":62123.621587937465},{"$f":"E134+F133","v":933702.40822265041},{"$f":"F134+G133","v":6495954.030735624}]
[]
["10. Costo del capital"]
[null,"Participación ($)","Part. (%)","Costo","Co promedio"]
["Préstamo bancario",{"$f":"$B$69*C138","v":2394027.4826752655},{"$f":"'[2]Rendimientos & Supuestos '!D17","v":0.5},{"$f":"B17","v":0.18},{"$f":"C138*D138","v":0.09}]
["Fondos propios",{"$f":"$B$69*C139","v":2394027.4826752655},{"$f":"'[2]Rendimientos & Supuestos '!D18","v":0.5},{"$f":"B14","v":0.3},{"$f":"C139*D139","v":0.15}]
["Total",{"$f":"SUM(B138:B139)","v":4788054.965350531},{"$f":"SUM(C138:C139)","v":1},null,{"$f":"SUM(E138:E139)","v":0.24}]
[]
["11. Indicadores financieros"]
["VAN =",{"$f":"NPV($E$140,C133:G133)+B133","v":1486801.0450708843}]
["TIR =",{"$f":"IRR(B133:G133)","v":0.42782582048957707}]
["PRI =",3,"años"]

{"sheet":"Rendimientos & Supuestos ","index":1,"n_rows":27,"n_cols":28,"rows_kept":27,"cut":false,"hidden":false,"merged":[[2,1,2,10],[2,21,2,26],[14,22,14,23],[21,22,21,23],[5,2,6,2],[5,5,5,6],[3,2,3,5],[2,12,2,19],[5,13,5,15],[12,13,12,15],[5,8,5,9]]}
[]
[]
[null,"Supuestos Técnicos Campo",null,null,null,null,null,null,null,null,null,null,"Supuestos Técnicos Planta",null,null,null,null,null,null,null,null,"Demanda de Semillas"]
[]
[]
[null,null,"Cultivo","Siembra","Costo Semilla","Rendimiento",null,null,"Precio de Venta",null,null,null,null,"Humedad a cosecha:",null,null,0.25]
[null,null,null,"(QQ/Ha)","($/QQ)","Campo (QQ/Ha)","Oro (QQ/Ha)",null,"($/QQ Oro)","($/Bolsa)",null,null,null,"Maíz","Llega","Selección","Secado","Desgrane","Acondicionamiento",null,null,null,"Cultivo","(QQ oro)","(Bolsas)","(Ha)"]
[null,null,"Maíz",0.6,{"$f":"3750/24.4527","v":153.35729796709566},100,{"$f":"S11","v":48.449999999999996},null,{"$f":"J8*100/44","v":75.120000000000019},33.052800000000012,null,null,null,null,"Pérdida (%)",0.05,0.15,0.2,0.25,null,null,null,"Maíz",4000,{"$f":"X8/0.44","v":9090.9090909090901},{"$f":"W19","v":82.559339525283804},null,{"$f":"_xlfn.FORMULATEXT(Z8)","v":"=W19"}]
[null,null,"Soya",1,{"$f":"3750/24.4527","v":153.35729796709566},35,{"$f":"S18","v":21.64575},null,{"$f":"J9*100/44","v":143.13339999999999},62.978695999999999,null,null,null,null,"Semilla",{"$f":"100%-P8","v":0.95},{"$f":"100%-Q8","v":0.85},{"$f":"100%-R8","v":0.8},{"$f":"100%-S8","v":0.75},null,null,null,"Soya",2000,{"$f":"X9/0.44","v":4545.454545454545},{"$f":"W26","v":92.396890844623087},null,{"$f":"_xlfn.FORMULATEXT(Z9)","v":"=W26"}]
[null,null,null,null,null,null,null,null,null,null,null,null,null,null,"Pérdida (QQ)",{"$f":"O11*P8","v":5},{"$f":"P11*Q8","v":14.25},{"$f":"Q11*R8","v":16.150000000000002},{"$f":"R11*S8","v":16.149999999999999}]
[null,null,null,null,null,null,null,null,null,null,null,null,null,null,{"$f":"F8","v":100},{"$f":"O11*P9","v":95},{"$f":"P11*Q9","v":80.75},{"$f":"Q11-R10","v":64.599999999999994},{"$f":"R11-S10","v":48.449999999999996},null,null,null,"Total",{"$f":"SUM(X8:X10)","v":6000},{"$f":"SUM(Y8:Y10)","v":13636.363636363636},{"$f":"SUM(Z8:Z10)","v":174.9562303699069}]
[null,null,null,null,null,null,null,null,null,null,null,null,null,null,null,null,1,1]
[null,null,null,null,null,null,null,null,null,null,null,null,null,"Humedad a cosecha:",null,null,0.18]
[null,null,null,null,null,null,null,null,null,null,null,null,null,"Soya","Llega","Selección","Secado","Desgrane","Acondicionamiento"]
[null,null,null,null,null,null,null,null,null,null,null,null,null,null,"Pérdida (%)",0.05,7.0000000000000007E-2,0,0.3,null,null,null,"Maíz"]
[null,null,null,null,null,null,null,null,null,null,null,null,null,null,"Semilla",{"$f":"100%-P15","v":0.95},{"$f":"100%-Q15","v":0.92999999999999994},{"$f":"100%-R15","v":1},{"$f":"100%-S15","v":0.7},null,null,null,"Ha","QQ Oro"]
[null,null,null,null,null,null,null,null,null,null,null,null,null,null,"Pérdida (QQ)",{"$f":"O18*P15","v":1.75},{"$f":"P18*Q15","v":2.3275000000000001},{"$f":"Q18*R15","v":0},{"$f":"R18*S15","v":9.2767499999999998},null,null,null,1,{"$f":"G8","v":48.449999999999996}]
[null,null,null,null,null,null,null,null,null,null,null,null,null,null,{"$f":"F9","v":35},{"$f":"O18*P16","v":33.25},{"$f":"P18*Q16","v":30.922499999999999},{"$f":"Q18*R16","v":30.922499999999999},{"$f":"R18-S17","v":21.64575},null,null,null,"X",4000]
[null,null,null,null,null,null,null,null,null,null,null,null,null,null,null,null,null,null,null,null,null,null,{"$f":"(W17*X18)/X17","v":82.559339525283804}]
[null,null,null,null,null,null,null,null,null,null,null,null,null,null,null,null,null,null,null,null,null,null,{"$f":"_xlfn.FORMULATEXT(W19)","v":"=(W17*X18)/X17"}]
[]
[null,null,null,null,null,null,null,null,null,null,null,null,null,null,null,null,null,null,null,null,null,null,"Soya"]
[null,null,null,null,null,null,null,null,null,null,null,null,null,null,null,null,null,null,null,null,null,null,"Ha","QQ Oro"]
[null,null,null,null,null,null,null,null,null,null,null,null,null,null,null,null,null,null,null,null,null,null,1,{"$f":"G9","v":21.64575}]
[null,null,null,null,null,null,null,null,null,null,null,null,null,null,null,null,null,null,null,null,null,null,"X",2000]
[null,null,null,null,null,null,null,null,null,null,null,null,null,null,null,null,null,null,null,null,null,null,{"$f":"(W24*X25)/X24","v":92.396890844623087}]
[null,null,null,null,null,null,null,null,null,null,null,null,null,null,null,null,null,null,null,null,null,null,{"$f":"_xlfn.FORMULATEXT(W26)","v":"=(W24*X25)/X24"}]

{"sheet":"Distribución Cultivos en Lotes","index":2,"n_rows":22,"n_cols":9,"rows_kept":22,"cut":false,"hidden":false,"merged":[[1,1,1,8],[12,6,12,7]]}
[]
[null,"Distribución de Cultivos por Lotes"]
[]
[null,"Cultivo","Lote","Area (Ha)","Ventana de Mercado","Fecha Siembra","Fecha Cosecha","Fecha Inicio Planta","Fecha Final Planta"]
[null,"Maíz","Guinope",{"$f":"G16","v":49.535603715170282},"Primera"]
[null,"Soya","Zona 2",{"$f":"C18","v":40},"Primera"]
[null,"Soya","Campus Altos",{"$f":"G17-D6","v":15.438134506773849},"Primera"]
[null,"Maíz","San Nicolas",{"$f":"C21","v":25},"Postrera"]
[null,"Maíz","Zona 1",{"$f":"H16-D8","v":8.0237358101135214},"Postrera"]
[null,"Soya","Zona 4",{"$f":"C20","v":20},"Postrera"]
[null,"Soya","Zona 3",{"$f":"H17-D10","v":16.958756337849238},"Postrera"]
[null,"Total",null,{"$f":"SUM(D5:D11)","v":174.9562303699069}]
[null,null,null,null,null,null,"Demanda en Ventanas de Mercado"]
[null,null,null,null,null,null,0.6,{"$f":"1-G14","v":0.4}]
[null,"Lote","Area del lote (ha)","Area a sembrar del lote (ha)","Cultivo","Área (Ha)","Primera","Postrera"]
[null,"Guinope",50,{"$f":"D5","v":49.535603715170282},"Maíz",{"$f":"'Rendimientos & Supuestos '!Z8","v":82.559339525283804},{"$f":"F16*$G$14","v":49.535603715170282},{"$f":"F16*$H$14","v":33.023735810113521}]
[null,"Campus Altos",20,{"$f":"D7","v":15.438134506773849},"Soya",{"$f":"'Rendimientos & Supuestos '!Z9","v":92.396890844623087},{"$f":"F17*$G$14","v":55.438134506773849},{"$f":"F17*$H$14","v":36.958756337849238}]
[null,"Zona 2",40,{"$f":"D6","v":40},"Total",{"$f":"SUM(F16:F17)","v":174.9562303699069}]
[null,"Zona 1",10,{"$f":"D9","v":8.0237358101135214}]
[null,"Zona 4",20,{"$f":"D10","v":20}]
[null,"San Nicolas",25,{"$f":"D8","v":25}]
[null,"Zona 3",18,{"$f":"D11","v":16.958756337849238}]

{"sheet":"Actividades","index":3,"n_rows":74,"n_cols":17,"rows_kept":74,"cut":false,"hidden":false,"merged":[[63,11,63,16],[72,11,72,16],[21,11,21,16],[29,11,29,16],[36,11,36,16],[43,11,43,16],[50,11,50,16],[57,11,57,16],[4,2,4,7],[6,3,7,7],[8,2,8,7],[21,2,21,7],[29,2,29,7],[5,2,5,3],[6,2,7,2],[4,11,4,16],[5,11,5,12],[6,11,7,11],[6,12,7,16],[8,11,8,16],[50,2,50,7],[57,2,57,7],[63,2,63,7],[72,2,72,7],[43,2,43,7]]}
[]
[]
[]
[]
[null,null,"Actividades Cultivo  de Maíz",null,null,null,null,null,null,null,null,"Actividades Cultivo  de Soya"]
[]
[null,null,"Actividad","Semana",null,null,null,null,null,null,null,"Actividad","Semana"]
[]
[null,null,"Preparación de Suelo",null,null,null,null,null,null,null,null,"Preparación de Suelo"]
[null,null,"Chapeo",-4,null,null,null,null,null,null,null,"Chapeo",-4]
[null,null,"Arado",-3,null,null,null,null,null,null,null,"Arado",-3]
[null,null,"Rastra pesada",-3,null,null,null,null,null,null,null,"Rastra pesada",-3]
[null,null,"Rastra liviana (2)",0,null,null,null,null,null,null,null,"Rastra liviana (2)",0]
[null,null,"Siembra",0,null,null,null,null,null,null,null,"Siembra",0]
[null,null,"Aplicación Herbicida",1,null,null,null,null,null,null,null,"Aplicación Herbicida",1]
[null,null,"Aplicación Insecticida/fungicida (2 + 2)",3,5,7,9,null,null,null,null,"Aplicación Insecticida/fungicida (5)",3,5,7,9,10]
[null,null,"Aplicación foliar",4,null,null,null,null,null,null,null,"Aplicación foliar",4]
[null,null,"Cultivada",3,null,null,null,null,null,null,null,"Cultivada",3]
[null,null,"Acarreo de Cosecha",17,null,null,null,null,null,null,null,"Acarreo de Cosecha",17]
[null,null,"Acarreo de Agua (5)",1,3,5,7,9,null,null,null,"Acarreo de Agua (6)",1,3,5,7,9]
[null,null,null,null,null,null,null,null,null,null,null,"Trilladora mecánica",10]
[null,null,"Siembra",null,null,null,null,null,null,null,null,"Siembra"]
[null,null,"Semilla",0,null,null,null,null,null,null,null,"Semilla",0]
[null,null,"Tratador Gaucho",0,null,null,null,null,null,null,null,"Tratador Crusier",0]
[null,null,"Protector Scort",0,null,null,null,null,null,null,null,"Protector Scort",0]
[null,null,"12-24-12",0,null,null,null,null,null,null,null,"12-24-12",0]
[null,null,"MO Siembra",0,null,null,null,null,null,null,null,"MO Siembra",0]
[null,null,"MO Fertilización",0,null,null,null,null,null,null,null,"MO Fertilización",0]
[]
[null,null,"Control de Malezas",null,null,null,null,null,null,null,null,"Control de Malezas"]
[null,null,"Prowl",1,null,null,null,null,null,null,null,"Flex",1]
[null,null,"Gesaprim 90",1,null,null,null,null,null,null,null,"Fusilade",1]
[null,null,"Convey",5,null,null,null,null,null,null,null,"Prowl",5]
[null,null,"MO Herbicida mecanizada",1,null,null,null,null,null,null,null,"MO Herbicida",1]
[null,null,"MO Convey",5,null,null,null,null,null,null,null,"MO Flex con Fusilade",5]
[]
[null,null,"Control de Plagas",null,null,null,null,null,null,null,null,"Control de Plagas"]
[null,null,"Curyom 55EC",3,null,null,null,null,null,null,null,"Connet",3]
[null,null,"Mancozeb 80WP",5,null,null,null,null,null,null,null,"Nativo",5]
[null,null,"Nativo",9,null,null,null,null,null,null,null,"Amistar (2)",7,10]
[null,null,"Proclaim 5SG",7,null,null,null,null,null,null,null,"Engeo",9]
[null,null,"MO Aplicaciones",3,5,7,9,null,null,null,null,"MO Aplicaciones",3,5,7,9,10]
[]
[null,null,"Fertilización",null,null,null,null,null,null,null,null,"Fertilización"]
[null,null,"Urea",4,null,null,null,null,null,null,null,"Urea",4]
[null,null,"Kelpak",4,null,null,null,null,null,null,null,"KCL",4]
[null,null,"Bayfolan",1,null,null,null,null,null,null,null,"Bayfolan",1]
[null,null,"MO Urea",1,null,null,null,null,null,null,null,"MO Urea",1]
[null,null,"MO foliar",1,null,null,null,null,null,null,null,"MO foliar",1]
[]
[null,null,"Riego",null,null,null,null,null,null,null,null,"Riego"]
[null,null,"MO Instalar Sistema Riego",-1,null,null,null,null,null,null,null,"MO Instalar Sistema Riego",-1]
[null,null,"MO Recoger Cinta",17,null,null,null,null,null,null,null,"MO Recoger Cinta",13]
[null,null,"Cinta",-3,null,null,null,null,null,null,null,"Cinta",-3]
[null,null,"MO Regador",1,null,null,null,null,null,null,null,"MO Regador",1,null,null,null,10]
[null,null,"Bomba de riego",1,null,null,null,null,null,null,null,"Bomba de riego",1,null,null,null,10]
[]
[null,null,"Cosecha",null,null,null,null,null,null,null,null,"Cosecha"]
[null,null,"MO Supervisor de Cosecha",17,null,null,null,null,null,null,null,"MO Supervisor de Cosecha",13]
[null,null,"MO Corteros",17,null,null,null,null,null,null,null,"MO Corteros",13]
[null,null,"Sacos",17,null,null,null,null,null,null,null,"Sacos",13]
[null,null,"Transporte",17,null,null,null,null,null,null,null,"Transporte",13]
[]
[null,null,"Mantenimiento",null,null,null,null,null,null,null,null,"Mantenimiento"]
[null,null,"Raleo",2,null,null,null,null,null,null,null,"Raleo",2]
[null,null,"Limpieza manual de malezas nocivas",4,null,null,null,null,null,null,null,"Limpieza manual de malezas nocivas",4]
[null,null,"Descañuele",6,10,null,null,null,null,null,null,"Descañuele",6,10]
[null,null,"Despanojado",8,null,null,null,null,null,null,null,"Despanojado",8]
[null,null,"Eliminación de machos",17,null,null,null,null,null,null,null,"Eliminación de machos",13]
[null,null,"Eliminación de plantas enfermas",1,null,null,null,null,null,null,null,"Eliminación de plantas enfermas",1]
[null,null,"Carga y descarga de cosecha",17,null,null,null,null,null,null,null,"Carga y descarga de cosecha",13]
[]
[null,null,"Destrucción ",null,null,null,null,null,null,null,null,"Destrucción "]
[null,null,"Rastra pesada",17,null,null,null,null,null,null,null,"Rastra pesada",13]

{"sheet":"Diagrama de Gantt","index":4,"n_rows":16,"n_cols":61,"rows_kept":16,"cut":false,"hidden":false,"merged":[[4,41,4,44],[4,45,4,48],[4,49,4,52],[4,53,4,56],[4,57,4,60],[4,1,5,1],[4,2,5,2],[4,3,5,3],[4,4,5,4],[4,37,4,40],[4,13,4,16],[4,17,4,20],[4,21,4,24],[4,25,4,28],[4,29,4,32],[4,33,4,36],[4,5,4,8],[4,9,4,12]]}
[]
[null,"PLANEACIÓN DE ACTIVIDADES - FINCA EL YEGUARE"]
[]
[]
[null,"Cultivo","Lote","Area (Ha)","Ventana de Mercado","NOVIEMBRE/ 22",null,null,null,"DICIEMBRE/ 22",null,null,null,"ENERO/ 23",null,null,null,"FEBRERO/ 23",null,null,null,"MARZO/ 23",null,null,null,"ABRIL/ 23",null,null,null,"MAYO/ 23",null,null,null,"JUNIO/ 23",null,null,null,"JULIO/ 23",null,null,null,"AGOSTO/ 23",null,null,null,"SEPTIEMBRE/ 23",null,null,null,"OCTUBRE/ 23",null,null,null,"NOVIEMBRE/ 23",null,null,null,"DICIEMBRE/ 23"]
[null,null,null,null,null,"Semana 1","Semana 2","Semana 3","Semana 4","Semana 1","Semana 2","Semana 3","Semana 4","Semana 1","Semana 2","Semana 3","Semana 4","Semana 1","Semana 2","Semana 3","Semana 4","Semana 1","Semana 2","Semana 3","Semana 4","Semana 1","Semana 2","Semana 3","Semana 4","Semana 1","Semana 2","Semana 3","Semana 4","Semana 1","Semana 2","Semana 3","Semana 4","Semana 1","Semana 2","Semana 3","Semana 4","Semana 1","Semana 2","Semana 3","Semana 4","Semana 1","Semana 2","Semana 3","Semana 4","Semana 1","Semana 2","Semana 3","Semana 4","Semana 1","Semana 2","Semana 3","Semana 4","Semana 1","Semana 2","Semana 3","Semana 4"]
[null,{"$f":"'Distribución Cultivos en Lotes'!B5","v":"Maíz"},{"$f":"'Distribución Cultivos en Lotes'!C5","v":"Guinope"},{"$f":"'Distribución Cultivos en Lotes'!D5","v":49.535603715170282},{"$f":"'Distribución Cultivos en Lotes'!E5","v":"Primera"},null,null,"Chapeo","Arado",null,null,"Ciclo del cultivo de maíz",null,null,null,null,null,null,null,null,null,null,null,null,null,null,null,"Proceso"]
[null,{"$f":"'Distribución Cultivos en Lotes'!B6","v":"Soya"},{"$f":"'Distribución Cultivos en Lotes'!C6","v":"Zona 2"},{"$f":"'Distribución Cultivos en Lotes'!D6","v":40},{"$f":"'Distribución Cultivos en Lotes'!E6","v":"Primera"},null,null,null,null,null,null,"Preparación de suelos",null,null,null,"Ciclo del cultivo de Soya",null,null,null,null,null,null,null,null,null,null,null,"Proceso"]
[null,{"$f":"'Distribución Cultivos en Lotes'!B7","v":"Soya"},{"$f":"'Distribución Cultivos en Lotes'!C7","v":"Campus Altos"},{"$f":"'Distribución Cultivos en Lotes'!D7","v":15.438134506773849},{"$f":"'Distribución Cultivos en Lotes'!E7","v":"Primera"},null,null,null,null,null,null,null,"Preparación de suelos",null,null,null,"Ciclo del cultivo de Soya",null,null,null,null,null,null,null,null,null,null,null,"Proceso"]
[null,{"$f":"'Distribución Cultivos en Lotes'!B8","v":"Maíz"},{"$f":"'Distribución Cultivos en Lotes'!C8","v":"San Nicolas"},{"$f":"'Distribución Cultivos en Lotes'!D8","v":25},{"$f":"'Distribución Cultivos en Lotes'!E8","v":"Postrera"},null,null,null,null,null,null,null,null,null,null,null,null,null,null,null,null,null,"Preparación de suelos",null,null,null,"Ciclo del cultivo de maíz",null,null,null,null,null,null,null,null,null,null,null,null,null,null,null,"Proceso"]
[null,{"$f":"'Distribución Cultivos en Lotes'!B9","v":"Maíz"},{"$f":"'Distribución Cultivos en Lotes'!C9","v":"Zona 1"},{"$f":"'Distribución Cultivos en Lotes'!D9","v":8.0237358101135214},{"$f":"'Distribución Cultivos en Lotes'!E9","v":"Postrera"},null,null,null,null,null,null,null,null,null,null,null,null,null,null,null,null,null,"Preparación de suelos",null,null,null,"Ciclo del cultivo de maíz",null,null,null,null,null,null,null,null,null,null,null,null,null,null,null,"Proceso"]
[null,{"$f":"'Distribución Cultivos en Lotes'!B10","v":"Soya"},{"$f":"'Distribución Cultivos en Lotes'!C10","v":"Zona 4"},{"$f":"'Distribución Cultivos en Lotes'!D10","v":20},{"$f":"'Distribución Cultivos en Lotes'!E10","v":"Postrera"},null,null,null,null,null,null,null,null,null,null,null,null,null,null,null,null,null,null,null,null,"Preparación de suelos",null,null,null,"Ciclo del cultivo de Soya",null,null,null,null,null,null,null,null,null,null,null,"Proceso"]
[null,{"$f":"'Distribución Cultivos en Lotes'!B11","v":"Soya"},{"$f":"'Distribución Cultivos en Lotes'!C11","v":"Zona 3"},{"$f":"'Distribución Cultivos en Lotes'!D11","v":16.958756337849238},{"$f":"'Distribución Cultivos en Lotes'!E11","v":"Postrera"},null,null,null,null,null,null,null,null,null,null,null,null,null,null,null,null,null,null,null,null,null,"Preparación de suelos",null,null,null,"Ciclo del cultivo de Soya",null,null,null,null,null,null,null,null,null,null,null,"Proceso"]
[]
[]
[null,"Total",null,{"$f":"SUM(D7:D15)","v":174.9562303699069}]

{"sheet":"Px Insumos","index":5,"n_rows":34,"n_cols":22,"rows_kept":34,"cut":false,"hidden":false,"merged":[[2,4,2,22]]}
[]
[]
[null,null,null,null,"Precio de Insumos"]
[]
[]
[]
[null,null,null,null,"FERTILIZANTES","UNIDAD","DOSIS","PRECIO/UNIDAD",null,null,null,"HERBICIDAS","UNIDAD","DOSIS","PRECIO/UNIDAD",null,null,null,"INSECTICIDAS","UNIDAD","DOSIS","PRECIO/UNIDAD"]
[null,null,null,null,"18-46-0","QQ",null,23.392099849914324,null,null,null,"Roundup Max","Kg",null,11.859631042788731,null,null,null,"Gaucho","Gr",0.1,0.23024042334793293]
[null,null,null,null,"12-24-12","QQ",2,18.975409668461971,null,null,null,null,null,null,0,null,null,null,"Furadán TS","Gal",null,66.250352721785319]
[null,null,null,null,"0-0-60","QQ",null,17.871237123098879,null,null,null,"Gesaprim","kg",null,8.588008686157357,null,null,null,"Engeo","Lt",0.3,82.363092828194837]
[null,null,null,null,"46-0-0","QQ",null,17.298703210688391,null,null,null,"Flex","Lt",0.6,28.422219223235061,null,null,null,"Lorsban 48 EC","Lt",null,14.640510045925399]
[null,null,null,null,"MAP","QQ",null,107.6363755331722,null,null,null,"Fusilade","Lt",1,27.358941957329865,null,null,null,"Match","Lt",null,59.707108008522574]
[null,null,null,null,"KCl","QQ",1,17.584970166893637,null,null,null,"Basagrán","Lt",null,27.399837236787757,null,null,null,"Proclaim","Gr",null,0.22287927304551236]
[null,null,null,null,"Nitrato de amonio","QQ",1,19.629734139788244,null,null,null,"Select","Lt",null,24.291795997987951,null,null,null,"Volaton 5 G","Kg",null,0.4907433534947061]
[null,null,null,null,"Sulf Mg","QQ",null,10.91903961525721,null,null,null,"2-4D","Lt",1,3.537441673107673,null,null,null,"Connet","Lt",0.45,29.158334253477122]
[null,null,null,null,"Bayfolan (T20+micronutrientes)","Lt",null,6.1342919186838261,null,null,null,"Ronstar","Lt",1,40.077373868734334,null,null,null,"Lorsban 48 EC","Lt",null,14.640510045925399]
[null,null,null,null,"FERTILIZANTE TERRABLEND","QQ",6,27.563418354619326,null,null,null,"Arromax","Lt",0.6,28.422219223235061,null,null,null,"Adherente","Lt",null,35.57889312836619]
[null,null,null,null,"Urea","QQ",3,17.298703210688391,null,null,null,"Prowl 45.5 CS","Lt",3,14.313347810262261,null,null,null,"Scort","Gr",1,0.5320890214928834]
[null,null,null,null,"Kelpak","Lt",2,12.677536631946575,null,null,null,"Gesaprim 90 G","Kg",2,8.588008686157357,null,null,null,null,null,null,0]
[null,null,null,null,"Bayfolan","Lt",2,6.1342919186838261,null,null,null,"Roundup Max","kg",1.5,11.859631042788731,null,null,null,"Nomolt 15SC","Lt",0.25,69.930927872995625]
[null,null,null,null,"Biozyme","Lt",9.9000000000000005E-2,26.581931647629915,null,null,null,"Convey","Lt",0.1,536.95501928212423,null,null,null,"Curyom 55EC","Lt",0.25,36.396798717524035]
[null,null,null,null,null,null,null,null,null,null,null,"Basta 15SL","Lt",2,15.131253399420105,null,null,null,"Sunfire 24SC","Lt",0.2,136.18128059478096]
[null,null,null,null,null,null,null,null,null,null,null,null,null,null,null,null,null,null,"Proclaim 5SG","Kg",0.1,222.87927304551235]
[null,null,null,null,null,null,null,null,null,null,null,null,null,null,null,null,null,null,"Karate Zeon 2.5CS","Lt",0.25,30.26250679884021]
[null,null,null,null,"FUNGICIDAS","UNIDAD",null,"PRECIO/UNIDAD",null,null,null,null,null,null,null,null,null,null,"BreakThru","Lt",1.2,35.57889312836619]
[null,null,null,null,"Mancozeb","Kg",null,4.089527945789218]
[null,null,null,null,"Acrobat","Gr",null,2.9853554004261287E-2,null,null,null,"MANO DE OBRA","UNIDAD",null,"PRECIO/UNIDAD"]
[null,null,null,null,"Kocide","Gr",null,0.14605456949247206,null,null,null,"Mano de obra temporal","Jornal/día",null,16.247620917117537,null,null,null,"VARIOS","UNIDAD",null,"PRECIO/UNIDAD"]
[null,null,null,null,"Mancozeb 80WP","Kg",0.7,4.089527945789218,null,null,null,"Mano de obra permanente","Jornal/día",null,17.497437910741962,null,null,null,"Sacos","Unidad",null,0.28626695620524523]
[null,null,null,null,"Antracol 70WP","Kg",0.7,17.584970166893637,null,null,null,"Mano de obra especializada","Jornal/día",null,19.497145100541044,null,null,null,"Transporte de cosecha","Viaje",null,73.611503024205916]
[null,null,null,null,"Nativo","KG",0.15,148.44986443214859,null,null,null,"Vigilante","Jornal/día",null,0,null,null,null,"Sacos cosechados por viaje","sacos",null,320]
[null,null,null,null,"Opera","L",0.4,51.119099322365216,null,null,null,"Vha por vigilante","Ha",null,0.4907433534947061,null,null,null,"Análisis de suelos","Análisis",null,17.265169081532918]
[null,null,null,null,"Agrimicin 16.4WP","Kg",0.5,36.805751512102958,null,null,null,"Vigilante","Jornal/día",null,0,null,null,null,"Cinta riego","Rollo",null,143.1334781026226]
[null,null,null,null,"Amistar","Kg",{"$f":"120/1000","v":0.12},205.29430287861871,null,null,null,"Vigilante","L/Ha",null,0,null,null,null,"Gastos administrativos","%",null,0]

{"sheet":"Px Maquinaria","index":6,"n_rows":78,"n_cols":11,"rows_kept":78,"cut":false,"hidden":false,"merged":[[1,4,1,10]]}
[]
[null,null,null,null,"Maquinaria y Riego"]
[]
[]
[]
[null,null,null,null,null,"Rendimiento (Ha/hora)",null,null,null,null,"Costo (L./Hora)"]
[null,null,null,null,"ENSILAJE / CULTIVOS / HENO",null,null,null,null,"ENSILAJE / CULTIVOS / HENO"]
[null,null,null,null,"Prep. / Siem. Cult./Ens/Heno",null,null,null,null,"Prep. / Siem. Cult./Ens/Heno"]
[null,null,null,null,"Subsolado Primer Pase",0.3,null,null,null,"Subsolado Primer Pase",29.403705930224476]
[null,null,null,null,"Subsolado Segundo Pase",0.5,null,null,null,"Subsolado Segundo Pase",31.294131118444998]
[null,null,null,null,"Subsolado Tercer Pase",0.6,null,null,null,"Subsolado Tercer Pase",31.294131118444998]
[null,null,null,null,"Picado de Rastrojo",0.6,null,null,null,"Picado de Rastrojo",38.181305131948619]
[null,null,null,null,"Chapeo de Preparación",0.7,null,null,null,"Chapia de Preparación",27.714321935818951]
[null,null,null,null,"Rastra Incorporación Primer Pase (Rastra pesada)",0.7,null,null,null,"Rastra Incorporación Primer Pase (Rastra pesada)",29.998323293542224]
[null,null,null,null,"Rastra Incorporación Segundo Pase",0.75,null,null,null,"Rastra Incorporación Segundo Pase",33.138508221995934]
[null,null,null,null,"Arado",0.45,null,null,null,"Arado",28.902329804070718]
[null,null,null,null,"Rastra Primer Pase (Rastra liviana)",0.75,null,null,null,"Rastra Primer Pase (Rastra liviana)",30.027358941957331]
[null,null,null,null,"Rastra Segundo Pase",0.8,null,null,null,"Rastra Segundo Pase",32.953170815492768]
[null,null,null,null,"Rastra Tercer Pase",0.8,null,null,null,"Rastra Tercer Pase",31.582033885828558]
[null,null,null,null,"Rastra Cuarto Pase",0.8,null,null,null,"Rastra Cuarto Pase",31.042216196984384]
[null,null,null,null,"Rastra Quinto Pase",0.8,null,null,null,"Rastra Quinto Pase",31.042216196984384]
[null,null,null,null,"Aplicación Químico 1",0.9,null,null,null,"Aplicación Químico 1",24.880688022181598]
[null,null,null,null,"Aplicación Químico 2",0.9,null,null,null,"Aplicación Químico 2",24.880688022181598]
[null,null,null,null,"Aplicación Químico 3",0.9,null,null,null,"Aplicación Químico 3",25.1542774417549]
[null,null,null,null,"Aplicación Químico 4",0.9,null,null,null,"Aplicación Químico 4",30.052550434103392]
[null,null,null,null,"Siembra",0.9,null,null,null,"Siembra",29.658074568452566]
[null,null,null,null,"Siembra y Fertilización",0.9,null,null,null,"Siembra y Fertilización",32.841608493131638]
[null,null,null,null,"Acarreo Preparación (por hora)",0.5,null,null,null,"Acarreo Preparación (por hora)",25.22703014391049]
[null,null,null,null,"Mantenim. Cult./Ens/Heno",null,null,null,null,"Mantenim. Cult./Ens/Heno"]
[null,null,null,null,"Chapeo Uniformización",0.7,null,null,null,"Chapia Uniformización",30.547383315543886]
[null,null,null,null,"Fertilización",0.9,null,null,null,"Fertilización",30.772307352562294]
[null,null,null,null,"Cultivada",0.9,null,null,null,"Cultivada",27.974824865965719]
[null,null,null,null,"Fertilizada y Cultivada",0.9,null,null,null,"Fertilizada y Cultivada",30.772307352562294]
[null,null,null,null,"Aplicación Químico 1",0.9,null,null,null,"Aplicación Químico 1",30.052550434103392]
[null,null,null,null,"Aplicación Químico 2",0.9,null,null,null,"Aplicación Químico 2",30.052550434103392]
[null,null,null,null,"Aplicación Químico 3",0.9,null,null,null,"Aplicación Químico 3",30.052550434103392]
[null,null,null,null,"Aplicación Químico 4",0.9,null,null,null,"Aplicación Químico 4",30.052550434103392]
[null,null,null,null,"Acarreo Mantenimiento (por hora)",1,null,null,null,"Acarreo Mantenimiento (por hora)",25.22703014391049]
[null,null,null,null,"Transporte (por hora)",1,null,null,null,"Transporte (por hora)",24.890502889251493]
[null,null,null,null,"Cosecha de Ensilaje",null,null,null,null,"Cosecha de Ensilaje"]
[null,null,null,null,"Picado y Llenado de Vagones",0.6,null,null,null,"Picado y Llenado de Vagones",28.366657994111716]
[null,null,null,null,"Acarreo Silo (por hora)",1,null,null,null,"Acarreo Silo (por hora)",19.398955726907428]
[null,null,null,null,"Compactación (por hora)",1,null,null,null,"Compactación (por hora)",20.156038977056042]
[null,null,null,null,"Acarreo Melaza (por hora)",1,null,null,null,"Acarreo Melaza (por hora)",14.883379061234704]
[null,null,null,null,"Aplicación Melaza (por hora)",1,null,null,null,"Aplicación Melaza (por hora)",14.883379061234704]
[null,null,null,null,"Cosecha de Cultivos",null,null,null,null,"Cosecha de Cultivos"]
[null,null,null,null,"Acarreos Varios (por hora) Agua",1,null,null,null,"Acarreos Varios (por hora) (Agua)",26.710342825127693]
[null,null,null,null,"Combinada",0.6,null,null,null,"Combinada",15.908423490107635]
[null,null,null,null,"Desgrane (por hora)",1,null,null,null,"Desgrane (por hora)",18.963228932772328]
[null,null,null,null,"Cosecha Heno",null,null,null,null,"Cosecha Heno"]
[null,null,null,null,"Segadora",0.8,null,null,null,"Segadora",23.984867634291373]
[null,null,null,null,"Segadora Acarriladora",0.8,null,null,null,"Segadora Acarriladora",24.149642115658516]
[null,null,null,null,"Embaladora",0.6,null,null,null,"Embaladora",19.684205457681802]
[null,null,null,null,"Acarreo (por hora)",1,null,null,null,"Acarreo (por hora)",18.41830300380915]
[null,null,null,null,"POTREROS",null,null,null,null,"POTREROS"]
[null,null,null,null,"Mantenimiento Potreros",null,null,null,null,"Mantenimiento Potreros"]
[null,null,null,null,"Chapeo Uniformización",0.7,null,null,null,"Chapia Uniformización",18.670205866543281]
[null,null,null,null,"Fertilización",0.9,null,null,null,"Fertilización",19.261363908933607]
[null,null,null,null,"Cultivada",0.9,null,null,null,"Cultivada",19.261363908933607]
[null,null,null,null,"Fertilizada y Cultivada",0.9,null,null,null,"Fertilizada y Cultivada",19.261363908933607]
[null,null,null,null,"Aplicación Herbicida",0.9,null,null,null,"Aplicación Herbicida",18.482316524649491]
[null,null,null,null,"Aplicación Insecticida",0.9,null,null,null,"Aplicación Insecticida",18.780527146120178]
[null,null,null,null,"Aplicación Fungicida ",0.9,null,null,null,"Aplicación Fungicida ",18.482316524649491]
[null,null,null,null,"Aplicación Nematicida",0.9,null,null,null,"Aplicación Nematicida",18.780527146120178]
[null,null,null,null,"Acarreo Vario (por hora)",1,null,null,null,"Acarreo Vario (por hora)",18.41830300380915]
[null,null,null,null,"Transporte (por hora)",1,null,null,null,"Transporte (por hora)",18.41830300380915]
[null,null,null,null,"ESTABLOS",null,null,null,null,"ESTABLOS"]
[null,null,null,null,"Mantenimiento Establos",null,null,null,null,"Mantenimiento Establos"]
[null,null,null,null,"Recolección de Estiercol (por hora)",1,null,null,null,"Recolección de Estiercol (por hora)",18.255604154279457]
[null,null,null,null,"Cargado Estiercol (por hora)",1,null,null,null,"Cargado Estiercol (por hora)",18.255604154279457]
[null,null,null,null,"Recolección y Cargado de Estiercol (por hora)",1,null,null,null,"Recolección y Cargado de Estiercol (por hora)",18.255604154279457]
[null,null,null,null,"Distribución de Estiercol (por hora)",1,null,null,null,"Distribución de Estiercol (por hora)",19.385556657445267]
[null,null,null,null,"VARIOS",null,null,null,null,"VARIOS"]
[null,null,null,null,"Varios",null,null,null,null,"Varios"]
[null,null,null,null,"Chapeo General",0.7,null,null,null,"Chapia General",18.670205866543281]
[null,null,null,null,"Acarreos Varios (por hora)",1,null,null,null,"Acarreos Varios (por hora)",18.41830300380915]
[null,null,null,null,"Volteo Composteras (por hora)",1,null,null,null,"Volteo Composteras (por hora)",18.255604154279457]
[null,null,null,null,"Riego Bomba",1,null,null,null,"Riego Bomba",{"$f":"500/24.4527","v":20.447639728946086}]

{"sheet":"Costos de Ventas","index":7,"n_rows":15,"n_cols":14,"rows_kept":15,"cut":false,"hidden":false,"merged":[[2,1,2,6],[2,8,2,13],[3,1,3,6],[3,8,3,13],[6,10,7,10],[6,11,6,12],[6,13,7,13],[4,1,4,6],[4,8,4,13],[6,1,7,1],[6,2,7,2],[6,3,7,3],[6,4,6,5],[6,6,7,6],[6,8,7,8],[6,9,7,9]]}
[]
[null,null,null,null,null,null,null,24.575199999999999]
[null,"Producción de semilla Certificada de Maíz",null,null,null,null,null,null,"Producción de semilla Certificada de Soya"]
[null,"Estructura de costo ",null,null,null,null,null,null,"Estructura de costo "]
[null,"Expresado en Lempiras",null,null,null,null,null,null,"Expresado en Lempiras"]
[]
[null,"Descripción","Unidad","Cantidad","Costo",null,"%",null,"Descripción","Unidad","Cantidad","Costo",null,"%"]
[null,null,null,null,"Unitario","Total",null,null,null,null,null,"Unitario","Total"]
[null,"Fumigación","QQ",1,9.603177186757382E-2,{"$f":"D9*E9","v":9.603177186757382E-2},{"$f":"F9/$F$15","v":2.3664233351739061E-2},null,"Fumigación","QQ",1,9.603177186757382E-2,{"$f":"K9*L9","v":9.603177186757382E-2},{"$f":"M9/$M$15","v":2.0192552411741199E-2}]
[null,"Análisis de laboratorio","QQ",1,0.20345714378723267,0.20345714378723267,5.0136087609616659E-2,null,"Análisis de laboratorio","QQ",1,0.20345714378723267,0.20345714378723267,{"$f":"M10/$M$15","v":4.2780831380807627E-2}]
[null,"Empaque ","QQ",1,0.8138285751489307,0.8138285751489307,0.20054435043846663,null,"Empaque ","QQ",1,0.8138285751489307,0.8138285751489307,0.17112332552323051]
[null,"Etiqueta","QQ",1,0.74744309562009159,0.74744309562009159,0.18418558241631794,null,"Etiqueta","QQ",1,1.4451468968529857,{"$f":"K12*L12","v":1.4451468968529857},0.30387031177149842]
[null,"Registro","QQ",1,0.16276571502978612,0.16276571502978612,4.0108870087693323E-2,null,"Registro","QQ",1,0.16276571502978612,0.16276571502978612,3.4224665104646099E-2]
[null,"Transporte por venta","QQ",1,2.0345714378723265,2.0345714378723265,0.50136087609616653,null,"Transporte por venta","QQ",1,2.0345714378723265,2.0345714378723265,0.42780831380807627]
[null,"Costo total",null,null,{"$f":"SUM(E9:E14)","v":4.058097739325941},{"$f":"SUM(F9:F14)","v":4.058097739325941},{"$f":"SUM(G9:G14)","v":1},null,"Costo total",null,null,{"$f":"SUM(L9:L14)","v":4.755801540558835},{"$f":"SUM(M9:M14)","v":4.755801540558835},{"$f":"SUM(N9:N14)","v":1}]

{"sheet":"Gastos Operativos","index":8,"n_rows":21,"n_cols":10,"rows_kept":21,"cut":false,"hidden":false,"merged":[[6,9,7,9],[3,8,4,9],[1,2,1,9],[3,2,4,3],[3,5,4,6],[6,2,7,2],[6,5,7,5],[6,8,7,8],[6,3,7,3],[6,6,7,6]]}
[]
[null,null,"Información del Programa"]
[]
[null,null,"Producción de Semillas",null,24.575199999999999,"Producción en Campo",null,null,"Procesamiento en Planta"]
[]
[]
[null,null,"Descripción","Temporada 2022 - 2023",null,"Descripción","Temporada 2022 - 2023",null,"Descripción","Temporada 2022 - 2023"]
[]
[null,null,"Salarios y beneficios","xxx",null,"Salarios y beneficios","xxx",null,"Salarios y beneficios","xxx"]
[null,null,"Servicios profesionales (asesorías, consultorías, etc.)","xxx",null,"Servicios profesionales (asesorías, consultorías, etc.)","xxx",null,"Servicios profesionales (asesorías, consultorías, etc.)","xxx"]
[null,null,"Suministros (limpieza de oficinas, corrales, etc.)","xxx",null,"Suministros (limpieza de oficinas, corrales, etc.)","xxx",null,"Suministros (limpieza de oficinas, corrales, etc.)","xxx"]
[null,null,"Servicios públicos (luz, agua, teléfono, internet, etc.)","xxx",null,"Servicios públicos (luz, agua, teléfono, internet, etc.)","xxx",null,"Servicios públicos (luz, agua, teléfono, internet, etc.)","xxx"]
[null,null,"Mantenimiento y reparación de máquinas","xxx",null,"Mantenimiento y reparación","xxx",null,"Mantenimiento y reparación","xxx"]
[null,null,"Gastos generales","xxx",null,"Gastos generales","xxx",null,"Gastos generales","xxx"]
[null,null,"Gastos financieros",0,null,"Gastos financieros",null,null,"Gastos financieros"]
[null,null,"Depreciaciones","xxx",null,"Depreciaciones","xxx",null,"Depreciaciones","xxx"]
[null,null,"Higiene y Seguridad (mascarillas, cascos, calzado, etc.)","xxx",null,"Higiene y Seguridad (mascarillas, cascos, calzado, etc.)","xxx",null,"Higiene y Seguridad (mascarillas, cascos, calzado, etc.)","xxx"]
[]
[null,null,"Gastos Operativos Totales",{"$f":"SUM(G19,J19)","v":27718.187440997426},null,"Gastos Operativos",{"$f":"190740/$E$4","v":7761.4831211953515},null,"Gastos Operativos",{"$f":"490440/$E$4","v":19956.704319802076}]
[null,null,"Producción Maíz + Soya (QQ Oro)",{"$f":"'Rendimientos & Supuestos '!$X$11","v":6000},null,"Producción Maíz + Soya (QQ Oro)",{"$f":"'Rendimientos & Supuestos '!$X$11","v":6000},null,"Producción Maíz + Soya (QQ Oro)",{"$f":"'Rendimientos & Supuestos '!$X$11","v":6000}]
[null,null,"Gastos Operativos por QQ Oro",{"$f":"D19/D20","v":4.6196979068329043},null,"Gastos Operativos por QQ Oro",{"$f":"G19/G20","v":1.2935805201992252},null,"Gastos Operativos por QQ Oro",{"$f":"J19/J20","v":3.3261173866336793}]

{"sheet":"Presupuesto Cultivo Maíz","index":9,"n_rows":156,"n_cols":27,"rows_kept":156,"cut":false,"hidden":false,"merged":[[7,20,7,26],[152,2,152,3],[131,2,131,3],[119,1,119,9],[131,5,131,8],[133,5,133,7],[124,7,124,8],[124,1,124,2],[125,1,125,2],[126,1,126,2],[127,1,127,2],[128,1,128,2],[102,10,102,12],[10,3,11,7],[27,2,27,14],[34,2,34,12],[36,2,36,14],[43,2,43,12],[37,2,37,14],[35,2,35,14],[81,2,81,14],[52,2,52,12],[61,2,61,12],[92,2,92,14],[10,14,11,14],[44,2,44,14],[53,2,53,14],[62,2,62,14],[71,2,71,14],[79,2,79,14],[45,2,45,14],[54,2,54,14],[63,2,63,14],[72,2,72,14],[70,2,70,12],[78,2,78,12],[55,2,55,14],[64,2,64,14],[73,2,73,14],[89,2,89,12],[94,2,94,12],[2,2,2,14],[3,2,3,14],[24,2,24,12],[26,2,26,14],[12,2,12,14],[25,2,25,14],[10,8,11,8],[10,9,11,9],[10,10,11,10],[10,11,11,11],[10,12,11,12],[10,13,11,13],[10,2,11,2],[9,2,9,3],[122,1,122,2],[9,20,9,21],[108,10,108,12],[110,10,110,12],[111,10,111,12],[113,10,113,12],[46,2,46,14],[96,10,96,12],[97,10,97,12],[98,10,98,12],[101,10,101,12],[104,10,104,12],[106,10,106,12],[90,2,90,14],[80,2,80,14],[91,2,91,14]]}
[]
[]
[null,null,"Presupuesto Cultivo de Maíz"]
[null,null,"Expresado en Dólares"]
[]
[]
[null,null,"Cultivo:","Maíz"]
[null,null,"Área (Ha)",{"$f":"'Rendimientos & Supuestos '!Z8","v":82.559339525283804},null,null,null,null,null,null,null,null,null,null,null,null,null,null,null,null,"ANÁLISIS DEL PUNTO DE EQUILIBRIO - Producción de Semilla de Maíz"]
[]
[null,null,null,null,null,null,null,null,null,null,null,null,null,null,null,null,null,null,null,null,"2. ENFOQUE GRÁFICO"]
[null,null,"Actividad","Semana",null,null,null,null,"Unidad","Cantidad / Ha","Àrea de siembra (Ha)","Cantidad Total","Costo / Unidad ($)","Costo Total ($)","% del Costo"]
[null,null,null,null,null,null,null,null,null,null,null,null,null,null,null,null,null,null,null,null,"Àrea (Ha)","Producción - Àrea * Rendimiento promedio / Ha","Ingresos Totales - IT = P * Producción","Costos Fijos - CF","Costos Variables - CV","Costos Totales CT = CF + CV","Utilidad = IT - CT"]
[null,null,"Preparación de Suelo",null,null,null,null,null,null,null,null,null,null,null,null,null,null,"Chapeo",null,null,0,{"$f":"U13*$N$102","v":0},{"$f":"$N$111*V13","v":0},{"$f":"$N$105","v":18478.791627331619},{"$f":"$D$128*V13","v":0},{"$f":"X13+Y13","v":18478.791627331619},{"$f":"W13-Z13","v":-18478.791627331619}]
[null,null,"Chapeo",-4,null,null,null,null,"Hr",{"$f":"S17","v":1.4285714285714286},{"$f":"$D$8","v":82.559339525283804},{"$f":"J14*K14","v":117.94191360754829},{"$f":"'Px Maquinaria'!K13","v":27.714321935818951},{"$f":"L14*M14","v":3268.680163446139},{"$f":"N14/$N$107","v":1.4563527754106341E-2},null,null,"Area (ha)","Tiempo (Hr)",null,1,{"$f":"U14*$N$102","v":48.449999999999996},{"$f":"$N$111*V14","v":3639.5640000000008},{"$f":"$N$105","v":18478.791627331619},{"$f":"$D$128*V14","v":2494.7400631255991},20973.531690457217,{"$f":"W14-Z14","v":-17333.967690457215}]
[null,null,"Arado",-3,null,null,null,null,"Hr",{"$f":"S22","v":2.2222222222222223},{"$f":"$D$8","v":82.559339525283804},{"$f":"J15*K15","v":183.46519894507512},{"$f":"'Px Maquinaria'!K16","v":28.902329804070718},{"$f":"L15*M15","v":5302.5716874800082},2.3625483705122404E-2,null,null,{"$f":"'Px Maquinaria'!F13","v":0.7},1,null,2,{"$f":"U15*$N$102","v":96.899999999999991},{"$f":"$N$111*V15","v":7279.1280000000015},{"$f":"$N$105","v":18478.791627331619},{"$f":"$D$128*V15","v":4989.4801262511983},23468.271753582816,{"$f":"W15-Z15","v":-16189.143753582815}]
[null,null,"Rastra pesada",-3,null,null,null,null,"Hr",{"$f":"1/'Px Maquinaria'!F14","v":1.4285714285714286},82.559339525283804,117.94191360754829,{"$f":"'Px Maquinaria'!K14","v":29.998323293542224},3538.0596542582603,1.5763741753231069E-2,null,null,1,"X",null,3,145.35,10918.692000000003,18478.791627331619,7484.2201893767979,25963.011816708415,-15044.319816708412]
[null,null,"Rastra liviana (2)",0,null,null,null,null,"Hr",{"$f":"(1/'Px Maquinaria'!F17)*2","v":2.6666666666666665},82.559339525283804,220.15823873409013,{"$f":"'Px Maquinaria'!K17","v":30.027358941957331},6610.7704584976582,2.945413262668499E-2,null,null,null,{"$f":"(S15*R16)/R15","v":1.4285714285714286},null,4,193.79999999999998,14558.256000000003,18478.791627331619,9978.9602525023965,28457.751879834017,-13899.495879834014]
[null,null,"Siembra",0,null,null,null,null,"Hr",{"$f":"1/'Px Maquinaria'!F26","v":1.1111111111111112},82.559339525283804,91.732599472537558,{"$f":"'Px Maquinaria'!K26","v":29.658074568452566},2720.6122755145116,1.2121624142279248E-2,null,null,"Arado",null,null,5,242.24999999999997,18197.820000000003,18478.791627331619,12473.700315627995,30952.491942959612,-12754.671942959609]
[null,null,"Aplicación Herbicida",1,null,null,null,null,"Hr",{"$f":"1/'Px Maquinaria'!F22","v":1.1111111111111112},82.559339525283804,91.732599472537558,{"$f":"'Px Maquinaria'!K22","v":24.880688022181598},{"$f":"L19*M19","v":2282.3701889399472},1.0169046810847319E-2,null,null,"Area (ha)","Tiempo (Hr)",null,6,290.7,21837.384000000005,18478.791627331619,14968.440378753596,33447.232006085214,-11609.848006085209]
[null,null,"Aplicación Insecticida/fungicida (2 + 2)",3,5,7,9,null,"Hr",{"$f":"(1/'Px Maquinaria'!F23)*4","v":4.4444444444444446},82.559339525283804,366.93039789015023,{"$f":"'Px Maquinaria'!K23","v":24.880688022181598},{"$f":"L20*M20","v":9129.4807557597887},4.0676187243389277E-2,null,null,{"$f":"'Px Maquinaria'!F16","v":0.45},1,null,7,339.15,25476.948000000004,18478.791627331619,17463.180441879194,35941.972069210809,-10465.024069210805]
[null,null,"Aplicación foliar",4,null,null,null,null,"Hr",{"$f":"1/'Px Maquinaria'!F24","v":1.1111111111111112},82.559339525283804,91.732599472537558,{"$f":"'Px Maquinaria'!K24","v":25.1542774417549},2307.4672575855889,1.0280866211183562E-2,null,null,1,"X",null,8,387.59999999999997,29116.512000000006,18478.791627331619,19957.920505004793,38436.712132336412,-9320.2001323364057]
[null,null,"Cultivada",3,null,null,null,null,"Hr",{"$f":"1/'Px Maquinaria'!F32","v":1.1111111111111112},82.559339525283804,{"$f":"J22*K22","v":91.732599472537558},{"$f":"'Px Maquinaria'!K32","v":27.974824865965719},2566.2034047440175,1.1433659042452691E-2,null,null,null,{"$f":"(S20*R21)/R20","v":2.2222222222222223},null,9,436.04999999999995,32756.076000000005,18478.791627331619,22452.660568130392,40931.452195462014,-8175.3761954620095]
[null,null,"Acarreo de Cosecha",17,null,null,null,null,"Hr",0,82.559339525283804,0,{"$f":"'Px Maquinaria'!K47","v":26.710342825127693},0,0,null,null,null,null,null,10,484.49999999999994,36395.640000000007,18478.791627331619,24947.40063125599,43426.192258587609,-7030.5522585876024]
[null,null,"Acarreo de Agua (5)",1,3,5,7,9,"Hr",{"$f":"(1/'Px Maquinaria'!F47)*5","v":5},82.559339525283804,412.79669762641902,{"$f":"'Px Maquinaria'!K47","v":26.710342825127693},11025.941310682227,4.9125822736958716E-2,null,null,null,null,null,11,532.94999999999993,40035.204000000005,18478.791627331619,27442.140694381589,45920.932321713204,-5885.728321713199]
[null,null,"Sub Total (Preparación de suelo)",null,null,null,null,null,null,null,null,null,null,{"$f":"SUM(N14:N24)","v":48752.157156908142},0.21721409202625561,null,null,null,null,null,12,581.4,43674.768000000011,18478.791627331619,29936.880757507191,48415.672384838806,-4740.9043848387955]
[null,null,null,null,null,null,null,null,null,null,null,null,null,null,null,null,null,null,null,null,13,629.84999999999991,47314.332000000002,18478.791627331619,32431.620820632786,50910.412447964409,-3596.0804479644066]
[null,null,null,null,null,null,null,null,null,null,null,null,null,null,null,null,null,null,null,null,14,678.3,50953.896000000008,18478.791627331619,34926.360883758389,53405.152511090011,-2451.2565110900032]
[null,null,"Siembra",null,null,null,null,null,null,null,null,null,null,null,null,null,null,null,null,null,15,726.74999999999989,54593.460000000006,18478.791627331619,37421.100946883984,{"$f":"X28+Y28","v":55899.892574215599},-1306.4325742155925]
[null,null,"Semilla",0,null,null,null,null,"QQ",{"$f":"'Rendimientos & Supuestos '!D8","v":0.6},{"$f":"$D$8","v":82.559339525283804},{"$f":"J29*K29","v":49.535603715170282},{"$f":"'Rendimientos & Supuestos '!E8","v":153.35729796709566},{"$f":"L29*M29","v":7596.6463389273395},{"$f":"N29/$N$107","v":3.3846679473974066E-2},null,null,null,null,null,16,775.19999999999993,58233.024000000012,18478.791627331619,39915.841010009586,58394.632637341201,-161.60863734118902]
[null,null,"Tratador Gaucho",0,null,null,null,null,"Gr",{"$f":"'Px Insumos'!U8","v":0.1},82.559339525283804,{"$f":"J30*K30","v":8.2559339525283804},{"$f":"'Px Insumos'!V8","v":0.23024042334793293},1.9008497283627075,8.4691913528210664E-6,null,null,null,null,null,17,823.65,61872.588000000011,18478.791627331619,42410.581073135188,60889.372700466804,983.21529953320714]
[null,null,"Protector Scort",0,null,null,null,null,"Gr",0,82.559339525283804,0,{"$f":"'Px Insumos'!V18","v":0.5320890214928834},0,0,null,null,null,null,null,18,872.09999999999991,65512.152000000009,18478.791627331619,44905.321136260784,63384.112763592406,2128.0392364076033]
[null,null,"12-24-12",0,null,null,null,null,"QQ",{"$f":"'Px Insumos'!G9","v":2},82.559339525283804,165.11867905056761,{"$f":"'Px Insumos'!H9","v":18.975409668461971},3133.1945788998096,1.3959874911932417E-2,null,null,null,null,null,19,920.55,69151.716000000015,18478.791627331619,47400.061199386386,65878.852826718008,3272.8631732820068]
[null,null,"MO Siembra",0,null,null,null,null,"Jornal/Hr",{"$f":"J18","v":1.1111111111111112},82.559339525283804,91.732599472537558,{"$f":"'Px Insumos'!O28/8","v":2.0309526146396921},186.30456274644578,8.3007560685103969E-4,null,null,null,null,null,20,968.99999999999989,72791.280000000013,18478.791627331619,49894.801262511981,68373.592889843596,4417.6871101564175]
[null,null,"MO Fertilización",0,null,null,null,null,"Jornal/Hr",{"$f":"J19","v":1.1111111111111112},82.559339525283804,91.732599472537558,{"$f":"'Px Insumos'!O28/8","v":2.0309526146396921},186.30456274644578,8.3007560685103969E-4,null,null,null,null,null,21,1017.4499999999999,76430.844000000012,18478.791627331619,52389.541325637583,70868.332952969198,5562.5110470308136]
[null,null,"Sub Total (Siembra)",null,null,null,null,null,null,null,null,null,null,{"$f":"SUM(N29:N34)","v":11104.350893048402},4.9475174790961383E-2,null,null,null,null,null,22,1065.8999999999999,80070.40800000001,18478.791627331619,54884.281388763178,73363.073016094801,6707.3349839052098]
[null,null,null,null,null,null,null,null,null,null,null,null,null,null,null,null,null,null,null,null,23,1114.3499999999999,83709.972000000009,18478.791627331619,57379.021451888781,75857.813079220403,7852.158920779606]
[null,null,null,null,null,null,null,null,null,null,null,null,null,null,null,null,null,null,null,null,24,1162.8,87349.536000000022,18478.791627331619,59873.761515014383,78352.553142346005,8996.9828576540167]
[null,null,"Control de Malezas",null,null,null,null,null,null,null,null,null,null,null,null,null,null,null,null,null,25,1211.25,90989.10000000002,18478.791627331619,62368.501578139985,80847.293205471608,10141.806794528413]
[null,null,"Prowl",1,null,null,null,null,"Lt",{"$f":"'Px Insumos'!N18","v":3},{"$f":"$D$8","v":82.559339525283804},{"$f":"J39*K39","v":247.67801857585141},{"$f":"'Px Insumos'!O18","v":14.313347810262261},{"$f":"L39*M39","v":3545.1016248327583},{"$f":"N39/$N$107","v":1.5795117087854565E-2},null,null,null,null,null,26,1259.6999999999998,94628.664000000004,18478.791627331619,64863.241641265573,83342.033268597195,11286.630731402809]
[null,null,"Gesaprim 90",1,null,null,null,null,"Kg",{"$f":"'Px Insumos'!N19","v":2},82.559339525283804,165.11867905056761,{"$f":"'Px Insumos'!O19","v":8.588008686157357},{"$f":"L40*M40","v":1418.0406499331034},6.3180468351418263E-3,null,null,null,null,null,27,1308.1499999999999,98268.228000000017,18478.791627331619,67357.981704391175,85836.773331722798,12431.45466827722]
[null,null,"Convey",5,null,null,null,null,"Lt",{"$f":"'Px Insumos'!N21","v":0.1},82.559339525283804,8.2559339525283804,{"$f":"'Px Insumos'!O21","v":536.95501928212423},{"$f":"L41*M41","v":4433.0651746718204},1.9751417844145754E-2,null,null,null,null,null,28,1356.6,101907.79200000002,18478.791627331619,69852.721767516778,88331.5133948484,13576.278605151616]
[null,null,"MO Herbicida mecanizada",1,null,null,null,null,"Jornal/Hr",{"$f":"J19","v":1.1111111111111112},82.559339525283804,91.732599472537558,{"$f":"'Px Insumos'!O29/8","v":2.1871797388427452},200.63568295771083,8.9392757660881189E-4,null,null,null,null,null,29,1405.05,105547.35600000003,18478.791627331619,72347.46183064238,90826.253457974002,14721.102542026027]
[null,null,"MO Convey",5,null,null,null,null,"Jornal/Hr",{"$f":"J19","v":1.1111111111111112},82.559339525283804,91.732599472537558,{"$f":"'Px Insumos'!O28/8","v":2.0309526146396921},186.30456274644578,8.3007560685103969E-4,null,null,null,null,null,30,1453.4999999999998,109186.92000000001,18478.791627331619,74842.201893767968,93320.99352109959,15865.926478900423]
[null,null,"Sub Total (Control de Malezas)",null,null,null,null,null,null,null,null,null,null,{"$f":"SUM(N39:N43)","v":9783.147695141839},4.3588584950602E-2,null,null,null,null,null,31,1501.9499999999998,112826.48400000001,18478.791627331619,77336.94195689357,95815.733584225192,17010.750415774819]
[null,null,null,null,null,null,null,null,null,null,null,null,null,null,null,null,null,null,null,null,32,{"$f":"U45*$N$102","v":1550.3999999999999},116466.04800000002,18478.791627331619,79831.682020019172,98310.473647350795,18155.57435264923]
[]
[null,null,"Control de Plagas"]
[null,null,"Curyom 55EC",3,null,null,null,null,"Lt",{"$f":"'Px Insumos'!U21","v":0.25},{"$f":"$D$8","v":82.559339525283804},{"$f":"J48*K48","v":20.639834881320951},{"$f":"'Px Insumos'!V21","v":36.396798717524035},{"$f":"L48*M48","v":751.22391573837024},{"$f":"N48/$N$107","v":3.3470605257596578E-3}]
[null,null,"Mancozeb 80WP",5,null,null,null,null,"Kg",{"$f":"'Px Insumos'!G29","v":0.7},82.559339525283804,57.791537667698655,{"$f":"'Px Insumos'!H29","v":4.089527945789218},236.34010832218391,1.0530078058569711E-3]
[null,null,"Nativo",9,null,null,null,null,"Kg",{"$f":"'Px Insumos'!G31","v":0.15},82.559339525283804,12.383900928792571,{"$f":"'Px Insumos'!H31","v":148.44986443214859},1838.3884140204161,8.1908964327017247E-3]
[null,null,"Proclaim 5SG",7,null,null,null,null,"Kg",{"$f":"'Px Insumos'!U23","v":0.1},82.559339525283804,8.2559339525283804,{"$f":"'Px Insumos'!V23","v":222.87927304551235},1840.0765576512888,8.1984179170292749E-3]
[null,null,"MO Aplicaciones",3,5,7,9,null,"Jornal/Hr",{"$f":"J20*4","v":17.777777777777779},82.559339525283804,1467.7215915606009,{"$f":"'Px Insumos'!O28/8","v":2.0309526146396921},2980.8730039431325,1.3281209709616635E-2]
[null,null,"Sub Total (Control de Plagas)",null,null,null,null,null,null,null,null,null,null,{"$f":"SUM(N48:N52)","v":7646.9019996753923},{"$f":"N53/$N$107","v":3.4070592390964265E-2}]
[]
[]
[null,null,"Fertilización"]
[null,null,"Urea",4,null,null,null,null,"QQ",{"$f":"'Px Insumos'!G18","v":3},{"$f":"$D$8","v":82.559339525283804},{"$f":"J57*K57","v":247.67801857585141},{"$f":"'Px Insumos'!H18","v":17.298703210688391},{"$f":"L57*M57","v":4284.5085351550197},{"$f":"N57/$N$107","v":1.9089527223321377E-2}]
[null,null,"Kelpak",4,null,null,null,null,"Lt",{"$f":"'Px Insumos'!G19*0","v":0},82.559339525283804,{"$f":"J58*K58","v":0},{"$f":"'Px Insumos'!H19","v":12.677536631946575},{"$f":"L58*M58","v":0},0]
[null,null,"Bayfolan",1,null,null,null,null,"Lt",{"$f":"'Px Insumos'!G20","v":2},82.559339525283804,165.11867905056761,{"$f":"'Px Insumos'!H20","v":6.1342919186838261},{"$f":"L59*M59","v":1012.8861785236453},4.5128905965298761E-3]
[null,null,"MO Urea",1,null,null,null,null,"hr",{"$f":"J22","v":1.1111111111111112},82.559339525283804,91.732599472537558,{"$f":"'Px Insumos'!O28/8","v":2.0309526146396921},{"$f":"L60*M60","v":186.30456274644578},8.3007560685103969E-4]
[null,null,"MO foliar",1,null,null,null,null,"hr",{"$f":"J21","v":1.1111111111111112},82.559339525283804,91.732599472537558,{"$f":"'Px Insumos'!O29/8","v":2.1871797388427452},{"$f":"L61*M61","v":200.63568295771083},8.9392757660881189E-4]
[null,null,"Sub Total (Fetilización)",null,null,null,null,null,null,null,null,null,null,{"$f":"SUM(N57:N61)","v":5684.3349593828216},{"$f":"N62/$N$107","v":2.5326421003311103E-2}]
[]
[]
[null,null,"Riego"]
[null,null,"MO Instalar Sistema Riego",-1,null,null,null,null,"Jornal",5,{"$f":"$D$8","v":82.559339525283804},{"$f":"J66*K66","v":412.79669762641902},{"$f":"'Px Insumos'!O28","v":16.247620917117537},{"$f":"L66*M66","v":6706.964258872049},{"$f":"N66/$N$107","v":2.9882721846637435E-2}]
[null,null,"MO Recoger Cinta",17,null,null,null,null,"Jornal",4,82.559339525283804,330.23735810113521,{"$f":"'Px Insumos'!O28","v":16.247620917117537},5365.5714070976392,2.3906177477309946E-2]
[null,null,"Cinta",-3,null,null,null,null,"Rollo",0,82.559339525283804,0,{"$f":"'Px Insumos'!V33","v":143.1334781026226},0,0]
[null,null,"MO Regador",1,null,null,null,null,"Jornal",{"$f":"100/7","v":14.285714285714286},82.559339525283804,1179.419136075483,{"$f":"'Px Insumos'!O28","v":16.247620917117537},19162.755025348713,8.5379205276106956E-2]
[null,null,"Bomba de riego",1,null,null,null,null,"Hr",20,82.559339525283804,1651.1867905056761,{"$f":"'Px Maquinaria'!K78","v":20.447639728946086},33762.872617454843,0.15042968655099587]
[null,null,"Sub Total (Riego)",null,null,null,null,null,null,null,null,null,null,{"$f":"SUM(N66:N70)","v":64998.163308773248},{"$f":"N71/$N$107","v":0.28959779115105022}]
[]
[]
[null,null,"Cosecha"]
[null,null,"MO Supervisor de Cosecha",17,null,null,null,null,"Jornal/Día",1,{"$f":"$D$8","v":82.559339525283804},{"$f":"J75*K75","v":82.559339525283804},{"$f":"'Px Insumos'!O30","v":19.497145100541044},{"$f":"L75*M75","v":1609.6714221292916},{"$f":"N75/$N$107","v":7.1718532431929837E-3}]
[null,null,"MO Corteros",17,null,null,null,null,"Jornal/Día",16,82.559339525283804,{"$f":"J76*K76","v":1320.9494324045409},{"$f":"'Px Insumos'!O28","v":16.247620917117537},21462.285628390557,9.5624709909239783E-2]
[null,null,"Sacos",17,null,null,null,null,"Unidad",{"$f":"'Rendimientos & Supuestos '!F8/0.6","v":166.66666666666669},82.559339525283804,13759.889920880636,{"$f":"'Px Insumos'!V29","v":0.28626695620524523},3939.0018053697322,1.7550130097616187E-2]
[null,null,"Transporte",17,null,null,null,null,"Unidad",{"$f":"J77/'Px Insumos'!V31","v":0.52083333333333337},82.559339525283804,42.999656002751983,{"$f":"'Px Insumos'!V30","v":73.611503024205916},{"$f":"L78*M78","v":3165.2693078863917},1.4102783114155864E-2]
[null,null,"Sub Total (Cosecha)",null,null,null,null,null,null,null,null,null,null,{"$f":"SUM(N75:N78)","v":30176.228163775973},{"$f":"N79/$N$107","v":0.13444947636420482}]
[]
[]
[null,null,"Mantenimiento"]
[null,null,"Raleo",2,null,null,null,null,"Jornal/Día",0,{"$f":"$D$8","v":82.559339525283804},{"$f":"J83*K83","v":0},{"$f":"'Px Insumos'!$O$28","v":16.247620917117537},{"$f":"L83*M83","v":0},{"$f":"N83/$N$107","v":0}]
[null,null,"Limpieza manual de malezas nocivas",4,null,null,null,null,"Jornal/Día",0,82.559339525283804,0,{"$f":"'Px Insumos'!$O$28","v":16.247620917117537},0,0]
[null,null,"Descañuele",6,10,null,null,null,"Jornal/Día",5,82.559339525283804,412.79669762641902,{"$f":"'Px Insumos'!$O$28","v":16.247620917117537},6706.964258872049,2.9882721846637435E-2]
[null,null,"Despanojado",8,null,null,null,null,"Jornal/Día",0,82.559339525283804,0,{"$f":"'Px Insumos'!$O$28","v":16.247620917117537},0,0]
[null,null,"Eliminación de machos",17,null,null,null,null,"Jornal/Día",0,82.559339525283804,0,{"$f":"'Px Insumos'!$O$28","v":16.247620917117537},0,{"$f":"N87/$N$107","v":0}]
[null,null,"Eliminación de plantas enfermas",1,null,null,null,null,"Jornal/Día",0,82.559339525283804,0,{"$f":"'Px Insumos'!$O$28","v":16.247620917117537},0,{"$f":"N88/$N$107","v":0}]
[null,null,"Carga y descarga de cosecha",17,null,null,null,null,"Jornal/Día",1,82.559339525283804,82.559339525283804,{"$f":"'Px Insumos'!$O$28","v":16.247620917117537},1341.3928517744098,5.9765443693274864E-3]
[null,null,"Sub Total (Mantenimiento)",null,null,null,null,null,null,null,null,null,null,{"$f":"SUM(N83:N89)","v":8048.3571106464588},{"$f":"N90/$N$107","v":3.585926621596492E-2}]
[]
[]
[null,null,"Destrucción "]
[null,null,"Rastra pesada",17,null,null,null,null,"Hr",{"$f":"1/'Px Maquinaria'!F14","v":1.4285714285714286},{"$f":"$D$8","v":82.559339525283804},{"$f":"J94*K94","v":117.94191360754829},{"$f":"'Px Maquinaria'!K14","v":29.998323293542224},{"$f":"L94*M94","v":3538.0596542582603},{"$f":"N94/$N$107","v":1.5763741753231069E-2}]
[null,null,"Sub Total (Destrucción)",null,null,null,null,null,null,null,null,null,null,{"$f":"SUM(N94)","v":3538.0596542582603},{"$f":"N95/$N$107","v":1.5763741753231069E-2}]
[]
[null,null,null,null,null,null,null,null,null,null,"Total Costos de Producción en Campo",null,null,{"$f":"N25+N35+N44+N53+N62+N71+N79+N90+N95","v":189731.70094161053},{"$f":"N97/$N$107","v":0.84534514064654531},null,null,null,null,{"$f":"N97*24.5","v":4648426.6730694575}]
[null,null,null,null,null,null,null,null,null,null,"Costos de Ventas Totales ($)",null,null,{"$f":"N103*'Costos de Ventas'!F15","v":16232.390957303764},{"$f":"N98/$N$107","v":7.2323036944967695E-2},null,null,null,null,397693.5784539422]
[null,null,null,null,null,null,null,null,null,null,"Costos Variables Totales ($)",null,null,{"$f":"N97+N98","v":205964.09189891428},{"$f":"N99/$N$107","v":0.91766817759151298},null,null,null,null,{"$f":"N99*24.5","v":5046120.2515233997}]
[]
[]
[null,null,null,null,null,null,null,null,null,null,"Rendimiento promedio en QQ Oro/Ha",null,null,{"$f":"'Rendimientos & Supuestos '!G8","v":48.449999999999996}]
[null,null,null,null,null,null,null,null,null,null,"Producción Total en QQ Oro",null,null,{"$f":"N102*D8","v":4000}]
[null,null,null,null,null,null,null,null,null,null,"Gastos Operativos por QQ Oro",null,null,{"$f":"'Gastos Operativos'!D21","v":4.6196979068329043}]
[null,null,null,null,null,null,null,null,null,null,"Costos Fijos Totales ($)",null,null,{"$f":"N103*N104","v":18478.791627331619},{"$f":"N105/$N$107","v":8.2331822408487049E-2},null,null,null,null,{"$f":"N105*24.5","v":452730.39486962464}]
[]
[null,null,null,null,null,null,null,null,null,null,"Costos Totales ($)",null,null,{"$f":"N99+N105","v":224442.88352624589},{"$f":"N107/$N$107","v":1},null,null,null,null,{"$f":"N107*24.5","v":5498850.6463930244}]
[]
[null,null,null,null,null,null,null,null,null,null,"Costo de Producción/ QQ Oro ($)",null,null,{"$f":"N107/N103","v":56.11072088156147}]
[]
[null,null,null,null,null,null,null,null,null,null,"Precio de venta por QQ Oro ($)",null,null,{"$f":"'Rendimientos & Supuestos '!I8","v":75.120000000000019}]
[null,null,null,null,null,null,null,null,null,null,"Ingresos Totales ($)",null,null,{"$f":"N111*N103","v":300480.00000000006}]
[]
[null,null,null,null,null,null,null,null,null,null,"Utilidad Operativa ($)",null,null,{"$f":"N112-N107","v":76037.116473754169}]
[]
[]
[]
[]
[]
[null,"ANÁLISIS DEL PUNTO DE EQUILIBRIO - Un solo Producto"]
[]
[]
[null,"1. ENFOQUE ALGEBRAICO",null,null,null,null,null,"c) Área en el Punto de Equilibrio"]
[]
[null,"Costos Fijos Totales (CF)",null,{"$f":"N105","v":18478.791627331619},{"$f":"_xlfn.FORMULATEXT(D125)","v":"=N105"},null,null,"Área Mínima de Siembra (Ha) = ",null,{"$f":"D134/N102","v":16.141164621157749}]
[null,"Costos Variables Totales (CV)",null,{"$f":"N99","v":205964.09189891428},{"$f":"_xlfn.FORMULATEXT(D126)","v":"=N99"},null,null,null,null,{"$f":"_xlfn.FORMULATEXT(J125)","v":"=D134/N102"}]
[null,"Producción Total en QQ Oro",null,{"$f":"N103","v":4000},"=N103"]
[null,"Costo Variable Unitario (CVU)",null,{"$f":"D126/D127","v":51.491022974728573},"=D126/D127"]
[null,"Precio por QQ Oro de Maíz (P)",null,{"$f":"N111","v":75.120000000000019},"=N111"]
[]
[]
[null,null,"a) Punto de Equilibrio Físico",null,null,"b) Punto de Equilibrio Monetario"]
[]
[null,null,"PEx = CF/ (P - CVU) =",{"$f":"D125/(D129-D128)","v":782.03942589509279},null,"PE$ = P * Pex =",null,null,{"$f":"D129*D134","v":58746.801673239388}]
[]
[]
[null,null,null,{"$f":"_xlfn.FORMULATEXT(D134)","v":"=D125/(D129-D128)"},null,null,null,null,{"$f":"_xlfn.FORMULATEXT(I134)","v":"=D129*D134"}]
[]
[]
[]
[]
[]
[]
[]
[]
[]
[]
[]
[]
[]
[]
[]
[null,null,"Punto de Equilibrio"]
[null,null,"Punto de Equilibrio Físico (QQ Oro de Maíz) =",{"$f":"D134","v":782.03942589509279}]
[null,null,"Punto de Equilibrio Monetario ($) =",{"$f":"I134","v":58746.801673239388}]
[null,null,"Área Mínima de Siembra (Ha) = ",{"$f":"J125","v":16.141164621157749}]

{"sheet":"Presupuesto Cultivo Soya","index":10,"n_rows":137,"n_cols":20,"rows_kept":137,"cut":false,"hidden":false,"merged":[[128,1,128,2],[131,2,131,3],[131,5,131,8],[133,5,133,7],[119,1,119,9],[124,1,124,2],[125,1,125,2],[126,1,126,2],[127,1,127,2],[107,10,107,12],[109,10,109,12],[111,10,111,12],[112,10,112,12],[114,10,114,12],[105,10,105,12],[82,2,82,14],[90,2,90,12],[91,2,91,14],[92,2,92,14],[93,2,93,14],[95,2,95,12],[97,10,97,12],[98,10,98,12],[99,10,99,12],[102,10,102,12],[103,10,103,12],[81,2,81,14],[56,2,56,14],[62,2,62,12],[63,2,63,14],[64,2,64,14],[65,2,65,14],[71,2,71,12],[72,2,72,14],[73,2,73,14],[74,2,74,14],[79,2,79,12],[80,2,80,14],[55,2,55,14],[28,2,28,14],[35,2,35,12],[36,2,36,14],[37,2,37,14],[38,2,38,14],[44,2,44,12],[45,2,45,14],[46,2,46,14],[47,2,47,14],[53,2,53,12],[54,2,54,14],[27,2,27,14],[2,2,2,14],[3,2,3,14],[9,2,9,3],[10,2,11,2],[10,3,11,7],[10,8,11,8],[10,9,11,9],[10,10,11,10],[10,11,11,11],[10,12,11,12],[10,13,11,13],[10,14,11,14],[12,2,12,14],[25,2,25,12],[26,2,26,14]]}
[]
[]
[null,null,"Presupuesto Cultivo de Soya"]
[null,null,"Expresado en Dólares"]
[]
[]
[null,null,"Cultivo:","Soya"]
[null,null,"Área (Ha)",{"$f":"'Rendimientos & Supuestos '!Z9","v":92.396890844623087}]
[]
[]
[null,null,"Actividad","Semana",null,null,null,null,"Unidad","Cantidad / Ha","Àrea de siembra (Ha)","Cantidad Total","Costo / Unidad ($)","Costo Total ($)","% del Costo"]
[]
[null,null,"Preparación de Suelo",null,null,null,null,null,null,null,null,null,null,null,null,null,null,null,"Chapeo"]
[null,null,"Chapeo",-4,null,null,null,null,"Hr",{"$f":"T17","v":1.4285714285714286},{"$f":"$D$8","v":92.396890844623087},{"$f":"J14*K14","v":131.99555834946156},{"$f":"'Px Maquinaria'!K13","v":27.714321935818951},{"$f":"L14*M14","v":3658.1673981951531},{"$f":"N14/$N$108","v":1.623789255772393E-2},null,null,null,"Area (ha)","Tiempo (Hr)"]
[null,null,"Arado",-3,null,null,null,null,"Hr",{"$f":"T22","v":2.2222222222222223},{"$f":"$D$8","v":92.396890844623087},{"$f":"J15*K15","v":205.32642409916244},{"$f":"'Px Maquinaria'!K16","v":28.902329804070718},{"$f":"L15*M15","v":5934.4120268044862},{"$f":"N15/$N$108","v":2.6341699106514013E-2},null,null,null,{"$f":"'Px Maquinaria'!F13","v":0.7},1]
[null,null,"Rastra pesada",-3,null,null,null,null,"Hr",{"$f":"1/'Px Maquinaria'!F14","v":1.4285714285714286},92.396890844623087,131.99555834946156,{"$f":"'Px Maquinaria'!K14","v":29.998323293542224},3959.6454326787648,1.7576094832139785E-2,null,null,null,1,"X"]
[null,null,"Rastra liviana (2)",0,null,null,null,null,"Hr",{"$f":"(1/'Px Maquinaria'!F17)*2","v":2.6666666666666665},92.396890844623087,246.39170891899488,{"$f":"'Px Maquinaria'!K17","v":30.027358941957331},7398.4922840329291,3.2840466200794484E-2,null,null,null,null,{"$f":"(T15*S16)/S15","v":1.4285714285714286}]
[null,null,"Siembra",0,null,null,null,null,"Hr",{"$f":"1/'Px Maquinaria'!F26","v":1.1111111111111112},92.396890844623087,102.66321204958122,{"$f":"'Px Maquinaria'!K26","v":29.658074568452566},3044.7931984033376,1.3515243955362716E-2,null,null,null,"Arado"]
[null,null,"Aplicación Herbicida",1,null,null,null,null,"Hr",{"$f":"1/'Px Maquinaria'!F22","v":1.1111111111111112},92.396890844623087,102.66321204958122,{"$f":"'Px Maquinaria'!K22","v":24.880688022181598},2554.3313503607051,1.133817934205162E-2,null,null,null,"Area (ha)","Tiempo (Hr)"]
[null,null,"Aplicación Insecticida/fungicida (2 + 2)",3,5,7,9,10,"Hr",{"$f":"(1/'Px Maquinaria'!F23)*5","v":5.5555555555555554},92.396890844623087,513.31606024790597,{"$f":"'Px Maquinaria'!K23","v":24.880688022181598},12771.656751803521,5.6690896710258086E-2,null,null,null,{"$f":"'Px Maquinaria'!F16","v":0.45},1]
[null,null,"Aplicación foliar",4,null,null,null,null,"Hr",{"$f":"1/'Px Maquinaria'!F24","v":1.1111111111111112},92.396890844623087,102.66321204958122,{"$f":"'Px Maquinaria'!K24","v":25.1542774417549},2582.4189189568806,1.1462854588268461E-2,null,null,null,1,"X"]
[null,null,"Cultivada",3,null,null,null,null,"Hr",{"$f":"1/'Px Maquinaria'!F32*0","v":0},92.396890844623087,{"$f":"J22*K22","v":0},{"$f":"'Px Maquinaria'!K32","v":27.974824865965719},{"$f":"L22*M22","v":0},0,null,null,null,null,{"$f":"(T20*S21)/S20","v":2.2222222222222223}]
[null,null,"Acarreo de Cosecha",17,null,null,null,null,"Hr",0,92.396890844623087,0,{"$f":"'Px Maquinaria'!K47","v":26.710342825127693},{"$f":"L23*M23","v":0},0]
[null,null,"Acarreo de Agua (5)",1,3,5,7,9,"Hr",{"$f":"(1/'Px Maquinaria'!F47)*5","v":5},92.396890844623087,{"$f":"J24*K24","v":461.98445422311545},{"$f":"'Px Maquinaria'!K47","v":26.710342825127693},{"$f":"L24*M24","v":12339.763152178924},5.4773805143991078E-2]
[null,null,"Trilladora mecánica",10,null,null,null,null,"Hr",{"$f":"'Rendimientos & Supuestos '!F9","v":35},{"$f":"$D$8","v":92.396890844623087},{"$f":"J25*K25","v":3233.8911795618083},1.0172857189361633,{"$f":"L25*M25","v":3289.791313561851},{"$f":"N25/$N$108","v":1.4602742868821839E-2}]
[null,null,"Sub Total (Preparación de suelo)",null,null,null,null,null,null,null,null,null,null,{"$f":"SUM(N14:N25)","v":57533.471826976551},{"$f":"N26/$N$108","v":0.25537987530592599}]
[]
[]
[null,null,"Siembra"]
[null,null,"Semilla",0,null,null,null,null,"QQ",{"$f":"'Rendimientos & Supuestos '!D9","v":1},{"$f":"$D$8","v":92.396890844623087},{"$f":"J30*K30","v":92.396890844623087},{"$f":"'Rendimientos & Supuestos '!E8","v":153.35729796709566},{"$f":"L30*M30","v":14169.737520492075},{"$f":"N30/$N$108","v":6.2896704930020073E-2},null,{"$f":"SUM(M30:M33)","v":173.09503708039844}]
[null,null,"Tratador Gaucho",0,null,null,null,null,"Gr",{"$f":"'Px Insumos'!U8","v":0.1},92.396890844623087,{"$f":"J31*K31","v":9.2396890844623094},{"$f":"'Px Insumos'!V8","v":0.23024042334793293},2.127349926409877,9.4428919668270139E-6]
[null,null,"Protector Scort",0,null,null,null,null,"Gr",0,92.396890844623087,0,{"$f":"'Px Insumos'!V18","v":0.5320890214928834},0,0]
[null,null,"12-24-12",0,null,null,null,null,"QQ",{"$f":"'Px Insumos'!G9-1","v":1},92.396890844623087,92.396890844623087,{"$f":"'Px Insumos'!H9","v":18.975409668461971},1753.2688558688862,7.7824189566744846E-3]
[null,null,"MO Siembra",0,null,null,null,null,"Jornal",{"$f":"J18","v":1.1111111111111112},92.396890844623087,102.66321204958122,{"$f":"'Px Insumos'!O28","v":16.247620917117537},1668.0329515152489,7.4040733791490678E-3]
[null,null,"MO Fertilización",0,null,null,null,null,"Jornal",{"$f":"J19","v":1.1111111111111112},92.396890844623087,102.66321204958122,{"$f":"'Px Insumos'!O28","v":16.247620917117537},{"$f":"L35*M35","v":1668.0329515152489},7.4040733791490678E-3]
[null,null,"Sub Total (Siembra)",null,null,null,null,null,null,null,null,null,null,{"$f":"SUM(N30:N35)","v":19261.199629317867},{"$f":"N36/$N$108","v":8.549671353695952E-2}]
[]
[]
[null,null,"Control de Malezas"]
[null,null,"Flex",1,null,null,null,null,"Lt",{"$f":"'Px Insumos'!N11","v":0.6},{"$f":"$D$8","v":92.396890844623087},{"$f":"J40*K40","v":55.438134506773849},{"$f":"'Px Insumos'!O11","v":28.422219223235061},{"$f":"L40*M40","v":1575.6748122787187},{"$f":"N40/$N$108","v":6.9941135882182325E-3}]
[null,null,"Fusilade",1,null,null,null,null,"Kg",{"$f":"'Px Insumos'!N12","v":1},92.396890844623087,92.396890844623087,{"$f":"'Px Insumos'!O12","v":27.358941957329865},{"$f":"L41*M41","v":2527.8811736557864},1.1220772159515582E-2]
[null,null,"Prowl",5,null,null,null,null,"Lt",0,92.396890844623087,0,{"$f":"'Px Insumos'!O18","v":14.313347810262261},{"$f":"L42*M42","v":0},0]
[null,null,"MO Herbicida",1,null,null,null,null,"Hr",{"$f":"J19","v":1.1111111111111112},92.396890844623087,102.66321204958122,{"$f":"'Px Insumos'!O29/8","v":2.1871797388427452},224.54289731936043,9.967021856546823E-4]
[null,null,"MO Flex con Fusilade",5,null,null,null,null,"Hr",{"$f":"J19","v":1.1111111111111112},92.396890844623087,102.66321204958122,{"$f":"'Px Insumos'!O28/8","v":2.0309526146396921},208.50411893940611,9.2550917239363347E-4]
[null,null,"Sub Total (Control de Malezas)",null,null,null,null,null,null,null,null,null,null,{"$f":"SUM(N40:N44)","v":4536.6030021932711},{"$f":"N45/$N$108","v":2.0137097105782129E-2}]
[]
[]
[null,null,"Control de Plagas"]
[null,null,"Connet",3,null,null,null,null,"Lt",{"$f":"'Px Insumos'!U15","v":0.45},{"$f":"$D$8","v":92.396890844623087},{"$f":"J49*K49","v":41.578600880080387},{"$f":"'Px Insumos'!V15","v":29.158334253477122},{"$f":"L49*M49","v":1212.362742253302},{"$f":"N49/$N$108","v":5.3814420738125179E-3}]
[null,null,"Nativo",5,null,null,null,null,"Kg",{"$f":"'Px Insumos'!G31","v":0.15},92.396890844623087,13.859533626693462,{"$f":"'Px Insumos'!H31","v":148.44986443214859},{"$f":"L50*M50","v":2057.4458879754493},9.1326015558389154E-3]
[null,null,"Amistar (2)",7,null,10,null,null,"Kg",{"$f":"'Px Insumos'!G34*2","v":0.24},92.396890844623087,22.175253802709541,{"$f":"'Px Insumos'!H34","v":205.29430287861871},4552.4532705836937,2.020745335991685E-2]
[null,null,"Engeo",9,null,null,null,null,"Kg",{"$f":"'Px Insumos'!U10","v":0.3},92.396890844623087,27.719067253386925,{"$f":"'Px Insumos'!V10","v":82.363092828194837},2283.0281093016829,1.0133917098324834E-2]
[null,null,"MO Aplicaciones",3,5,7,9,null,"Jornal/Hr",{"$f":"J20","v":5.5555555555555554},92.396890844623087,513.31606024790597,{"$f":"'Px Insumos'!O28","v":16.247620917117537},8340.1647575762436,3.7020366895745338E-2]
[null,null,"Sub Total (Control de Plagas)",null,null,null,null,null,null,null,null,null,null,{"$f":"SUM(N49:N53)","v":18445.454767690371},{"$f":"N54/$N$108","v":8.1875780983638458E-2}]
[]
[]
[null,null,"Fertilización"]
[null,null,"Urea",4,null,null,null,null,"QQ",{"$f":"'Px Insumos'!G18","v":3},{"$f":"$D$8","v":92.396890844623087},{"$f":"J58*K58","v":277.19067253386925},{"$f":"'Px Insumos'!H18","v":17.298703210688391},{"$f":"L58*M58","v":4795.0391769345179},{"$f":"N58/$N$108","v":2.1284244948318792E-2}]
[null,null,"KCL",4,null,null,null,null,"QQ",{"$f":"'Px Insumos'!G13","v":1},92.396890844623087,{"$f":"J59*K59","v":92.396890844623087},{"$f":"'Px Insumos'!H13","v":17.584970166893637},{"$f":"L59*M59","v":1624.7965690164249},7.2121554986423033E-3]
[null,null,"Bayfolan",1,null,null,null,null,"Lt",{"$f":"'Px Insumos'!G20-1","v":1},92.396890844623087,92.396890844623087,{"$f":"'Px Insumos'!H20","v":6.1342919186838261},{"$f":"L60*M60","v":566.78950081968298},2.5158681972008031E-3]
[null,null,"MO Urea",1,null,null,null,null,"Jornal",{"$f":"J22","v":0},92.396890844623087,0,{"$f":"'Px Insumos'!O28/8","v":2.0309526146396921},{"$f":"L61*M61","v":0},0]
[null,null,"MO foliar",1,null,null,null,null,"Jornal",{"$f":"J21","v":1.1111111111111112},92.396890844623087,102.66321204958122,{"$f":"'Px Insumos'!O29/8","v":2.1871797388427452},{"$f":"L62*M62","v":224.54289731936043},9.967021856546823E-4]
[null,null,"Sub Total (Fetilización)",null,null,null,null,null,null,null,null,null,null,{"$f":"SUM(N58:N62)","v":7211.1681440899856},{"$f":"N63/$N$108","v":3.2008970829816581E-2}]
[]
[]
[null,null,"Riego"]
[null,null,"MO Instalar Sistema Riego",-1,null,null,null,null,"Jornal",5,{"$f":"$D$8","v":92.396890844623087},{"$f":"J67*K67","v":461.98445422311545},{"$f":"'Px Insumos'!O28","v":16.247620917117537},{"$f":"L67*M67","v":7506.1482818186196},{"$f":"N67/$N$108","v":3.3318330206170803E-2}]
[null,null,"MO Recoger Cinta",13,null,null,null,null,"Jornal",4,92.396890844623087,369.58756337849235,{"$f":"'Px Insumos'!O28","v":16.247620917117537},6004.9186254548958,2.6654664164936646E-2]
[null,null,"Cinta",-3,null,null,null,null,"Rollo",0,92.396890844623087,0,{"$f":"'Px Insumos'!V33","v":143.1334781026226},0,0]
[null,null,"MO Regador",1,null,null,null,null,"Jornal",{"$f":"70/7","v":10},92.396890844623087,923.9689084462309,{"$f":"'Px Insumos'!O28","v":16.247620917117537},15012.296563637239,6.6636660412341606E-2]
[null,null,"Bomba de riego",1,null,null,null,null,"Hr",14,92.396890844623087,1293.5564718247233,{"$f":"'Px Maquinaria'!K78","v":20.447639728946086},26450.17670491854,0.11740718253603748]
[null,null,"Sub Total (Riego)",null,null,null,null,null,null,null,null,null,null,{"$f":"SUM(N67:N71)","v":54973.540175829294},{"$f":"N72/$N$108","v":0.24401683731948653}]
[]
[]
[null,null,"Cosecha"]
[null,null,"MO Supervisor de Cosecha",13,null,null,null,null,"Jornal/Día",1,{"$f":"$D$8","v":92.396890844623087},{"$f":"J76*K76","v":92.396890844623087},{"$f":"'Px Insumos'!O30","v":19.497145100541044},{"$f":"L76*M76","v":1801.4755876364686},{"$f":"N76/$N$108","v":7.9963992494809927E-3}]
[null,null,"MO Corteros",13,null,null,null,null,"Jornal/Día",13,92.396890844623087,{"$f":"J77*K77","v":1201.1595809801001},{"$f":"'Px Insumos'!O28","v":16.247620917117537},19515.985532728409,8.662765853604408E-2]
[null,null,"Sacos",13,null,null,null,null,"Unidad",{"$f":"'Rendimientos & Supuestos '!F9/0.6","v":58.333333333333336},92.396890844623087,5389.8186326030136,{"$f":"'Px Insumos'!V29","v":0.28626695620524523},1542.9269744535816,6.8487523146021868E-3]
[null,null,"Transporte",13,null,null,null,null,"Unidad",{"$f":"J78/'Px Insumos'!V31","v":0.18229166666666669},92.396890844623087,16.84318322688442,{"$f":"'Px Insumos'!V30","v":73.611503024205916},{"$f":"L79*M79","v":1239.852033043057},5.5034616813767583E-3]
[null,null,"Sub Total (Cosecha)",null,null,null,null,null,null,null,null,null,null,{"$f":"SUM(N76:N79)","v":24100.240127861518},{"$f":"N80/$N$108","v":0.10697627178150403}]
[]
[]
[null,null,"Mantenimiento"]
[null,null,"Raleo",2,null,null,null,null,"Jornal/Día",0,{"$f":"$D$8","v":92.396890844623087},{"$f":"J84*K84","v":0},{"$f":"'Px Insumos'!$O$28","v":16.247620917117537},{"$f":"L84*M84","v":0},{"$f":"N84/$N$108","v":0}]
[null,null,"Limpieza manual de malezas nocivas",4,null,null,null,null,"Jornal/Día",0,92.396890844623087,0,{"$f":"'Px Insumos'!$O$28","v":16.247620917117537},0,0]
[null,null,"Descañuele",6,10,null,null,null,"Jornal/Día",5,92.396890844623087,461.98445422311545,{"$f":"'Px Insumos'!$O$28","v":16.247620917117537},7506.1482818186196,3.3318330206170803E-2]
[null,null,"Despanojado",8,null,null,null,null,"Jornal/Día",0,92.396890844623087,0,{"$f":"'Px Insumos'!$O$28","v":16.247620917117537},0,0]
[null,null,"Eliminación de machos",13,null,null,null,null,"Jornal/Día",0,92.396890844623087,0,{"$f":"'Px Insumos'!$O$28","v":16.247620917117537},0,0]
[null,null,"Eliminación de plantas enfermas",1,null,null,null,null,"Jornal/Día",5,92.396890844623087,461.98445422311545,{"$f":"'Px Insumos'!$O$28","v":16.247620917117537},7506.1482818186196,3.3318330206170803E-2]
[null,null,"Carga y descarga de cosecha",13,null,null,null,null,"Jornal/Día",1,92.396890844623087,92.396890844623087,{"$f":"'Px Insumos'!$O$28","v":16.247620917117537},1501.229656363724,6.6636660412341614E-3]
[null,null,"Sub Total (Mantenimiento)",null,null,null,null,null,null,null,null,null,null,{"$f":"SUM(N84:N90)","v":16513.526220000964},{"$f":"N91/$N$108","v":7.3300326453575773E-2}]
[]
[]
[null,null,"Destrucción "]
[null,null,"Rastra pesada",17,null,null,null,null,"Hr",{"$f":"1/'Px Maquinaria'!F14","v":1.4285714285714286},{"$f":"$D$8","v":92.396890844623087},{"$f":"J95*K95","v":131.99555834946156},{"$f":"'Px Maquinaria'!K14","v":29.998323293542224},{"$f":"L95*M95","v":3959.6454326787648},{"$f":"N95/$N$108","v":1.7576094832139785E-2}]
[null,null,"Sub Total (Destrucción)",null,null,null,null,null,null,null,null,null,null,{"$f":"SUM(N95)","v":3959.6454326787648},{"$f":"N96/$N$108","v":1.7576094832139785E-2}]
[]
[null,null,null,null,null,null,null,null,null,null,"Total Costos de Producción en Campo",null,null,{"$f":"N26+N36+N45+N54+N63+N72+N80+N91+N96","v":206534.84932663862},{"$f":"N98/$N$108","v":0.91676796814882899}]
[null,null,null,null,null,null,null,null,null,null,"Costos de Ventas Totales ($)",null,null,{"$f":"N104*'Costos de Ventas'!M15","v":9511.6030811176715},{"$f":"N99/$N$108","v":4.2220153445986522E-2}]
[null,null,null,null,null,null,null,null,null,null,"Costos Variables Totales ($)",null,null,{"$f":"N98+N99","v":216046.4524077563},{"$f":"N100/$N$108","v":0.9589881215948155}]
[]
[]
[null,null,null,null,null,null,null,null,null,null,"Rendimiento promedio en QQ Oro/Ha",null,null,{"$f":"'Rendimientos & Supuestos '!G9","v":21.64575}]
[null,null,null,null,null,null,null,null,null,null,"Producción Total en QQ Oro",null,null,{"$f":"N103*D8","v":2000.0000000000002}]
[null,null,null,null,null,null,null,null,null,null,"Gastos Operativos por QQ Oro",null,null,{"$f":"'Gastos Operativos'!D21","v":4.6196979068329043}]
[null,null,null,null,null,null,null,null,null,null,"Costos Fijos Totales ($)",null,null,{"$f":"N104*N105","v":9239.3958136658093},{"$f":"N106/$N$108","v":4.1011878405184478E-2}]
[]
[null,null,null,null,null,null,null,null,null,null,"Costos Totales ($)",null,null,{"$f":"N100+N106","v":225285.84822142211},{"$f":"N108/$N$108","v":1}]
[]
[null,null,null,null,null,null,null,null,null,null,"Costo de Producción/ QQ Oro ($)",null,null,{"$f":"N108/N104","v":112.64292411071105}]
[]
[null,null,null,null,null,null,null,null,null,null,"Precio de venta por QQ Oro ($)",null,null,{"$f":"'Rendimientos & Supuestos '!I9","v":143.13339999999999}]
[null,null,null,null,null,null,null,null,null,null,"Ingresos Totales ($)",null,null,{"$f":"N112*N104","v":286266.80000000005}]
[]
[null,null,null,null,null,null,null,null,null,null,"Utilidad Operativa ($)",null,null,{"$f":"N113-N108","v":60980.951778577932}]
[]
[]
[]
[]
[null,"ANÁLISIS DEL PUNTO DE EQUILIBRIO - Un solo Producto"]
[]
[]
[null,"1. ENFOQUE ALGEBRAICO"]
[]
[null,"Costos Fijos Totales (CF)",null,{"$f":"N106","v":9239.3958136658093},{"$f":"_xlfn.FORMULATEXT(D125)","v":"=N106"}]
[null,"Costos Variables Totales (CV)",null,{"$f":"N100","v":216046.4524077563},{"$f":"_xlfn.FORMULATEXT(D126)","v":"=N100"}]
[null,"Producción Total en QQ Oro",null,{"$f":"N104","v":2000.0000000000002},"=N104"]
[null,"Costo Variable Unitario (CVU)",null,{"$f":"D126/D127","v":108.02322620387814},"=D126/D127"]
[null,"Precio por QQ Oro de Maíz (P)",null,{"$f":"N112","v":143.13339999999999},"=N112"]
[]
[]
[null,null,"a) Punto de Equilibrio Físico",null,null,"b) Punto de Equilibrio Monetario"]
[]
[null,null,"PEx = CF/ (P - CVU)",{"$f":"D125/(D129-D128)","v":263.15437420837719},null,"PE$ = P * PEx",null,null,{"$f":"D129*D134","v":37666.180305317335}]
[]
[]
[null,null,null,{"$f":"_xlfn.FORMULATEXT(D134)","v":"=D125/(D129-D128)"},null,null,null,null,{"$f":"_xlfn.FORMULATEXT(I134)","v":"=D129*D134"}]

{"sheet":"Presupuesto General","index":11,"n_rows":117,"n_cols":10,"rows_kept":117,"cut":false,"hidden":false,"merged":[[2,2,2,6],[3,2,3,6],[7,2,8,2],[7,3,8,3],[7,4,8,4],[44,2,44,4],[7,5,8,5],[7,6,8,6],[9,2,9,6],[22,2,22,4],[23,2,23,6],[24,2,24,6],[25,2,25,6],[33,2,33,4],[34,2,34,6],[35,2,35,6],[36,2,36,6],[75,2,75,4],[45,2,45,6],[46,2,46,6],[47,2,47,6],[56,2,56,4],[57,2,57,6],[58,2,58,6],[59,2,59,6],[66,2,66,4],[67,2,67,6],[68,2,68,6],[69,2,69,6],[99,2,99,4],[76,2,76,6],[77,2,77,6],[78,2,78,6],[83,2,83,4],[84,2,84,6],[85,2,85,6],[86,2,86,6],[94,2,94,4],[95,2,95,6],[96,2,96,6],[97,2,97,6],[109,2,109,4],[111,2,111,4],[114,2,114,4],[116,2,116,4],[101,2,101,4],[102,2,102,4],[103,2,103,4],[106,2,106,4],[107,2,107,4]]}
[]
[]
[null,null,"Presupuesto General de la Finca"]
[null,null,"Expresado en Dólares"]
[]
[]
[]
[null,null,"Actividad","Unidad","Cantidad Total","Costo Total ($)","% del Costo"]
[]
[null,null,"Preparación de Suelo"]
[null,null,"Chapeo","Hr",{"$f":"'Presupuesto Cultivo Maíz'!L14+'Presupuesto Cultivo Soya'!L14","v":249.93747195700985},{"$f":"'Presupuesto Cultivo Maíz'!N14+'Presupuesto Cultivo Soya'!N14","v":6926.8475616412925},{"$f":"F11/$F$112","v":1.5402279357876962E-2}]
[null,null,"Arado","Hr",{"$f":"'Presupuesto Cultivo Maíz'!L15+'Presupuesto Cultivo Soya'!L15","v":388.79162304423755},{"$f":"'Presupuesto Cultivo Maíz'!N15+'Presupuesto Cultivo Soya'!N15","v":11236.983714284495},2.498613702223788E-2]
[null,null,"Rastra pesada","Hr",{"$f":"'Presupuesto Cultivo Maíz'!L16+'Presupuesto Cultivo Soya'!L16","v":249.93747195700985},{"$f":"'Presupuesto Cultivo Maíz'!N16+'Presupuesto Cultivo Soya'!N16","v":7497.705086937025},1.6671616816209572E-2]
[null,null,"Rastra liviana (2)","Hr",{"$f":"'Presupuesto Cultivo Maíz'!L17+'Presupuesto Cultivo Soya'!L17","v":466.54994765308504},{"$f":"'Presupuesto Cultivo Maíz'!N17+'Presupuesto Cultivo Soya'!N17","v":14009.262742530587},3.1150473059815196E-2]
[null,null,"Siembra","Hr",{"$f":"'Presupuesto Cultivo Maíz'!L18+'Presupuesto Cultivo Soya'!L18","v":194.39581152211878},{"$f":"'Presupuesto Cultivo Maíz'!N18+'Presupuesto Cultivo Soya'!N18","v":5765.4054739178491},1.2819740138712506E-2]
[null,null,"Aplicación Herbicida","Hr",{"$f":"'Presupuesto Cultivo Maíz'!L19+'Presupuesto Cultivo Soya'!L19","v":194.39581152211878},{"$f":"'Presupuesto Cultivo Maíz'!N19+'Presupuesto Cultivo Soya'!N19","v":4836.7015393006523},1.0754708778567454E-2]
[null,null,"Aplicación Insecticida/fungicida (2 + 2)","Hr",{"$f":"'Presupuesto Cultivo Maíz'!L20+'Presupuesto Cultivo Soya'!L20","v":880.24645813805614},{"$f":"'Presupuesto Cultivo Maíz'!N20+'Presupuesto Cultivo Soya'!N20","v":21901.137507563311},4.8698550840757741E-2]
[null,null,"Aplicación foliar","Hr",{"$f":"'Presupuesto Cultivo Maíz'!L21+'Presupuesto Cultivo Soya'!L21","v":194.39581152211878},{"$f":"'Presupuesto Cultivo Maíz'!N21+'Presupuesto Cultivo Soya'!N21","v":4889.8861765424699},1.0872968150244995E-2]
[null,null,"Cultivada","Hr",{"$f":"'Presupuesto Cultivo Maíz'!L22+'Presupuesto Cultivo Soya'!L22","v":91.732599472537558},{"$f":"'Presupuesto Cultivo Maíz'!N22+'Presupuesto Cultivo Soya'!N22","v":2566.2034047440175},5.7061139829150441E-3]
[null,null,"Acarreo de Cosecha","Hr",{"$f":"'Presupuesto Cultivo Maíz'!L23+'Presupuesto Cultivo Soya'!L23","v":0},{"$f":"'Presupuesto Cultivo Maíz'!N23+'Presupuesto Cultivo Soya'!N23","v":0},0]
[null,null,"Acarreo de Agua (5)","Hr",{"$f":"'Presupuesto Cultivo Maíz'!L24+'Presupuesto Cultivo Soya'!L24","v":874.78115184953447},{"$f":"'Presupuesto Cultivo Maíz'!N24+'Presupuesto Cultivo Soya'!N24","v":23365.704462861151},5.1955107186638649E-2]
[null,null,"Trilladora mecánica","Hr",{"$f":"'Presupuesto Cultivo Soya'!L25","v":3233.8911795618083},{"$f":"'Presupuesto Cultivo Soya'!N25","v":3289.791313561851},7.3150570139860977E-3]
[null,null,"Sub Total (Preparación de suelo)",null,null,{"$f":"SUM(F11:F22)","v":106285.62898388467},0.23633275234796203]
[]
[]
[null,null,"Siembra"]
[null,null,"Semilla maíz","QQ",{"$f":"'Presupuesto Cultivo Maíz'!L29","v":49.535603715170282},{"$f":"'Presupuesto Cultivo Maíz'!N29","v":7596.6463389273395},{"$f":"F27/$F$112","v":1.6891618886359334E-2},null,{"$f":"SUM(F27:F31)","v":26656.875493842883}]
[null,null,"Semilla soya","QQ",{"$f":"'Presupuesto Cultivo Soya'!L30","v":92.396890844623087},{"$f":"'Presupuesto Cultivo Soya'!N30","v":14169.737520492075},{"$f":"F28/$F$112","v":3.1507298778594324E-2}]
[null,null,"Tratador Gaucho","Gr",{"$f":"'Presupuesto Cultivo Maíz'!L30+'Presupuesto Cultivo Soya'!L31","v":17.49562303699069},{"$f":"'Presupuesto Cultivo Maíz'!N30+'Presupuesto Cultivo Soya'!N31","v":4.0281996547725845},8.9569542046353199E-6]
[null,null,"Protector Scort","Gr",{"$f":"'Presupuesto Cultivo Maíz'!L31+'Presupuesto Cultivo Soya'!L32","v":0},{"$f":"'Presupuesto Cultivo Maíz'!N31+'Presupuesto Cultivo Soya'!N32","v":0},{"$f":"F30/$F$112","v":0}]
[null,null,"12-24-12","QQ",{"$f":"'Presupuesto Cultivo Maíz'!L32+'Presupuesto Cultivo Soya'!L33","v":257.51556989519071},{"$f":"'Presupuesto Cultivo Maíz'!N32+'Presupuesto Cultivo Soya'!N33","v":4886.4634347686961},{"$f":"F31/$F$112","v":1.08653574695565E-2}]
[null,null,"MO Siembra","Jornal/Hr",{"$f":"'Presupuesto Cultivo Maíz'!L33+'Presupuesto Cultivo Soya'!L34","v":194.39581152211878},{"$f":"'Presupuesto Cultivo Maíz'!N33+'Presupuesto Cultivo Soya'!N34","v":1854.3375142616947},{"$f":"F32/$F$112","v":4.1232355937225705E-3}]
[null,null,"MO Fertilización","Jornal/Hr",{"$f":"'Presupuesto Cultivo Maíz'!L34+'Presupuesto Cultivo Soya'!L35","v":194.39581152211878},{"$f":"'Presupuesto Cultivo Maíz'!N34+'Presupuesto Cultivo Soya'!N35","v":1854.3375142616947},{"$f":"F33/$F$112","v":4.1232355937225705E-3}]
[null,null,"Sub Total (Siembra)",null,null,{"$f":"SUM(F27:F33)","v":30365.550522366269},{"$f":"F34/$F$112","v":6.7519703276159929E-2}]
[]
[]
[null,null,"Control de Malezas"]
[null,null,"Prowl","Lt",{"$f":"'Presupuesto Cultivo Maíz'!L39+'Presupuesto Cultivo Soya'!L42","v":247.67801857585141},{"$f":"'Presupuesto Cultivo Maíz'!N39+'Presupuesto Cultivo Soya'!N42","v":3545.1016248327583},{"$f":"F38/$F$112","v":7.8827554803010229E-3},null,{"$f":"SUM(F38:F42)","v":13499.763435372188}]
[null,null,"Gesaprim 90","Kg",{"$f":"'Presupuesto Cultivo Maíz'!L40","v":165.11867905056761},{"$f":"'Presupuesto Cultivo Maíz'!N40","v":1418.0406499331034},{"$f":"F39/$F$112","v":3.1531021921204091E-3}]
[null,null,"Convey","Lt",{"$f":"'Presupuesto Cultivo Maíz'!L41","v":8.2559339525283804},{"$f":"'Presupuesto Cultivo Maíz'!N41","v":4433.0651746718204},{"$f":"F40/$F$112","v":9.8571980434621342E-3}]
[null,null,"Flex","Lt",{"$f":"'Presupuesto Cultivo Soya'!L40","v":55.438134506773849},{"$f":"'Presupuesto Cultivo Soya'!N40","v":1575.6748122787187},3.5036116241796891E-3]
[null,null,"Fusilade","Kg",{"$f":"'Presupuesto Cultivo Soya'!L41","v":92.396890844623087},{"$f":"'Presupuesto Cultivo Soya'!N41","v":2527.8811736557864},5.6209021021012282E-3]
[null,null,"MO Herbicida mecanizada","Jornal/Hr",{"$f":"'Presupuesto Cultivo Maíz'!J42+'Presupuesto Cultivo Soya'!L43","v":103.77432316069233},{"$f":"'Presupuesto Cultivo Maíz'!N42+'Presupuesto Cultivo Soya'!N43","v":425.17858027707126},9.4541120071383114E-4]
[null,null,"MO Convey","Jornal/Hr",{"$f":"'Presupuesto Cultivo Maíz'!J43+'Presupuesto Cultivo Soya'!J44","v":2.2222222222222223},{"$f":"'Presupuesto Cultivo Maíz'!N43+'Presupuesto Cultivo Soya'!N44","v":394.80868168585187},8.778818292342717E-4]
[null,null,"Sub Total (Control de Malezas)",null,null,{"$f":"SUM(F38:F44)","v":14319.750697335112},{"$f":"F45/$F$112","v":3.184086247211259E-2}]
[]
[]
[null,null,"Control de Plagas"]
[null,null,"Curyom 55EC","Lt",{"$f":"'Presupuesto Cultivo Maíz'!L48","v":20.639834881320951},{"$f":"'Presupuesto Cultivo Maíz'!N48","v":751.22391573837024},{"$f":"F49/$F$112","v":1.6703934232066453E-3},null,{"$f":"SUM(F49:F55)","v":14771.319005846388}]
[null,null,"Mancozeb 80WP","Kg",{"$f":"'Presupuesto Cultivo Maíz'!L49","v":57.791537667698655},{"$f":"'Presupuesto Cultivo Maíz'!N49","v":236.34010832218391},5.2551703202006821E-4]
[null,null,"Nativo","Kg",{"$f":"'Presupuesto Cultivo Maíz'!L50+'Presupuesto Cultivo Soya'!L50","v":26.243434555486033},{"$f":"'Presupuesto Cultivo Maíz'!N50+'Presupuesto Cultivo Soya'!N50","v":3895.8343019958656},8.6626315531508555E-3]
[null,null,"Proclaim 5SG","Kg",{"$f":"'Presupuesto Cultivo Maíz'!L51","v":8.2559339525283804},{"$f":"'Presupuesto Cultivo Maíz'!N51","v":1840.0765576512888},4.0915254635848159E-3]
[null,null,"Connet","Lt",{"$f":"'Presupuesto Cultivo Soya'!L49","v":41.578600880080387},{"$f":"'Presupuesto Cultivo Soya'!N49","v":1212.362742253302},2.6957644834965308E-3]
[null,null,"Amistar (2)","Kg",{"$f":"'Presupuesto Cultivo Soya'!L51","v":22.175253802709541},{"$f":"'Presupuesto Cultivo Soya'!N51","v":4552.4532705836937},1.0122664951586785E-2]
[null,null,"Engeo","Kg",{"$f":"'Presupuesto Cultivo Soya'!L52","v":27.719067253386925},{"$f":"'Presupuesto Cultivo Soya'!N52","v":2283.0281093016829},5.076455979207117E-3]
[null,null,"MO Aplicaciones","Jornal/Hr",{"$f":"'Presupuesto Cultivo Maíz'!L52+'Presupuesto Cultivo Soya'!L53","v":1981.0376518085068},{"$f":"'Presupuesto Cultivo Maíz'!N52+'Presupuesto Cultivo Soya'!N53","v":11321.037761519376},2.5173036460279657E-2]
[null,null,"Sub Total (Control de Plagas)",null,null,{"$f":"SUM(F49:F56)","v":26092.356767365764},5.8017989346532475E-2]
[]
[]
[null,null,"Fertilización"]
[null,null,"Urea","QQ",{"$f":"'Presupuesto Cultivo Maíz'!L57+'Presupuesto Cultivo Soya'!L58","v":524.86869110972066},{"$f":"'Presupuesto Cultivo Maíz'!N57+'Presupuesto Cultivo Soya'!N58","v":9079.5477120895375},{"$f":"F61/$F$112","v":2.0188942958582985E-2},null,{"$f":"SUM(F61:F64)","v":12284.019960449292}]
[null,null,"Kelpak","Lt",{"$f":"'Presupuesto Cultivo Maíz'!L58","v":0},{"$f":"'Presupuesto Cultivo Maíz'!N58","v":0},{"$f":"F62/$F$112","v":0}]
[null,null,"Bayfolan","Lt",{"$f":"'Presupuesto Cultivo Maíz'!L59+'Presupuesto Cultivo Soya'!L60","v":257.51556989519071},{"$f":"'Presupuesto Cultivo Maíz'!N59+'Presupuesto Cultivo Soya'!N60","v":1579.6756793433283},{"$f":"F63/$F$112","v":3.512507802658351E-3}]
[null,null,"KCL","QQ",{"$f":"'Presupuesto Cultivo Soya'!L59","v":92.396890844623087},{"$f":"'Presupuesto Cultivo Soya'!N59","v":1624.7965690164249},3.6128369266121498E-3]
[null,null,"MO Urea","hr",{"$f":"'Presupuesto Cultivo Maíz'!L60+'Presupuesto Cultivo Soya'!L61","v":91.732599472537558},{"$f":"'Presupuesto Cultivo Maíz'!N60+'Presupuesto Cultivo Soya'!N61","v":186.30456274644578},4.1425986287880047E-4]
[null,null,"MO foliar","hr",{"$f":"'Presupuesto Cultivo Maíz'!L61+'Presupuesto Cultivo Soya'!L62","v":194.39581152211878},{"$f":"'Presupuesto Cultivo Maíz'!N61+'Presupuesto Cultivo Soya'!N62","v":425.17858027707126},9.4541120071383114E-4]
[null,null,"Sub Total (Fetilización)",null,null,{"$f":"SUM(F61:F66)","v":12895.503103472809},{"$f":"F67/$F$112","v":2.867395875144612E-2}]
[]
[]
[null,null,"Riego"]
[null,null,"MO Instalar Sistema Riego","Jornal",{"$f":"'Presupuesto Cultivo Maíz'!L66+'Presupuesto Cultivo Soya'!L67","v":874.78115184953447},{"$f":"'Presupuesto Cultivo Maíz'!N66+'Presupuesto Cultivo Soya'!N67","v":14213.112540690669},{"$f":"F71/$F$112","v":3.1603745852433786E-2},null,{"$f":"SUM(F73)","v":0}]
[null,null,"MO Recoger Cinta","Jornal",{"$f":"'Presupuesto Cultivo Maíz'!L67+'Presupuesto Cultivo Soya'!L68","v":699.82492147962762},{"$f":"'Presupuesto Cultivo Maíz'!N67+'Presupuesto Cultivo Soya'!N68","v":11370.490032552534},2.5282996681947025E-2]
[null,null,"Cinta","Rollo",{"$f":"'Presupuesto Cultivo Maíz'!L68+'Presupuesto Cultivo Soya'!L69","v":0},{"$f":"'Presupuesto Cultivo Maíz'!N68+'Presupuesto Cultivo Soya'!N69","v":0},0]
[null,null,"MO Regador","Jornal",{"$f":"'Presupuesto Cultivo Maíz'!L69+'Presupuesto Cultivo Soya'!L70","v":2103.3880445217137},{"$f":"'Presupuesto Cultivo Maíz'!N69+'Presupuesto Cultivo Soya'!N70","v":34175.051588985953},7.5990367473699125E-2]
[null,null,"Bomba de riego","Hr",{"$f":"'Presupuesto Cultivo Maíz'!L70+'Presupuesto Cultivo Soya'!L71","v":2944.7432623303994},{"$f":"'Presupuesto Cultivo Maíz'!N70+'Presupuesto Cultivo Soya'!N71","v":60213.049322373379},0.133887486103862]
[null,null,"Sub Total (Riego)",null,null,{"$f":"SUM(F71:F75)","v":119971.70348460253},0.26676459611194192]
[]
[]
[null,null,"Cosecha"]
[null,null,"MO Supervisor de Cosecha","Jornal/Día",{"$f":"'Presupuesto Cultivo Maíz'!L75+'Presupuesto Cultivo Soya'!L76","v":174.9562303699069},{"$f":"'Presupuesto Cultivo Maíz'!N75+'Presupuesto Cultivo Soya'!N76","v":3411.1470097657602},{"$f":"F80/$F$112","v":7.5848990045841074E-3},null,{"$f":"SUM(F82)","v":5481.9287798233136}]
[null,null,"MO Corteros","Jornal/Día",{"$f":"'Presupuesto Cultivo Maíz'!L76+'Presupuesto Cultivo Soya'!L77","v":2522.109013384641},{"$f":"'Presupuesto Cultivo Maíz'!N76+'Presupuesto Cultivo Soya'!N77","v":40978.271161118966},9.1117752254509923E-2]
[null,null,"Sacos","Unidad",{"$f":"'Presupuesto Cultivo Maíz'!L77+'Presupuesto Cultivo Soya'!L78","v":19149.708553483651},{"$f":"'Presupuesto Cultivo Maíz'!N77+'Presupuesto Cultivo Soya'!N78","v":5481.9287798233136},1.2189411956225853E-2]
[null,null,"Transporte","Unidad",{"$f":"'Presupuesto Cultivo Maíz'!L78+'Presupuesto Cultivo Soya'!L79","v":59.842839229636404},{"$f":"'Presupuesto Cultivo Maíz'!N78+'Presupuesto Cultivo Soya'!N79","v":4405.1213409294487},9.7950631791100615E-3]
[null,null,"Sub Total (Cosecha)",null,null,{"$f":"SUM(F80:F83)","v":54276.468291637488},{"$f":"F84/$F$112","v":0.12068712639442994}]
[]
[]
[null,null,"Mantenimiento"]
[null,null,"Raleo","Jornal/Día",{"$f":"'Presupuesto Cultivo Maíz'!L83+'Presupuesto Cultivo Soya'!L84","v":0},{"$f":"'Presupuesto Cultivo Maíz'!N83+'Presupuesto Cultivo Soya'!N84","v":0},{"$f":"F88/$F$112","v":0}]
[null,null,"Limpieza manual de malezas nocivas","Jornal/Día",{"$f":"'Presupuesto Cultivo Maíz'!L84+'Presupuesto Cultivo Soya'!L85","v":0},{"$f":"'Presupuesto Cultivo Maíz'!N84+'Presupuesto Cultivo Soya'!N85","v":0},0]
[null,null,"Descañuele","Jornal/Día",{"$f":"'Presupuesto Cultivo Maíz'!L85+'Presupuesto Cultivo Soya'!L86","v":874.78115184953447},{"$f":"'Presupuesto Cultivo Maíz'!N85+'Presupuesto Cultivo Soya'!N86","v":14213.112540690669},3.1603745852433786E-2]
[null,null,"Despanojado","Jornal/Día",{"$f":"'Presupuesto Cultivo Maíz'!L86+'Presupuesto Cultivo Soya'!L87","v":0},{"$f":"'Presupuesto Cultivo Maíz'!N86+'Presupuesto Cultivo Soya'!N87","v":0},0]
[null,null,"Eliminación de machos","Jornal/Día",{"$f":"'Presupuesto Cultivo Maíz'!L87+'Presupuesto Cultivo Soya'!L88","v":0},{"$f":"'Presupuesto Cultivo Maíz'!N87+'Presupuesto Cultivo Soya'!N88","v":0},{"$f":"F92/$F$112","v":0}]
[null,null,"Eliminación de plantas enfermas","Jornal/Día",{"$f":"'Presupuesto Cultivo Maíz'!L88+'Presupuesto Cultivo Soya'!L89","v":461.98445422311545},{"$f":"'Presupuesto Cultivo Maíz'!N88+'Presupuesto Cultivo Soya'!N89","v":7506.1482818186196},{"$f":"F93/$F$112","v":1.6690390788796965E-2}]
[null,null,"Carga y descarga de cosecha","Jornal/Día",{"$f":"'Presupuesto Cultivo Maíz'!L89+'Presupuesto Cultivo Soya'!L90","v":174.9562303699069},{"$f":"'Presupuesto Cultivo Maíz'!N89+'Presupuesto Cultivo Soya'!N90","v":2842.6225081381335},6.3207491704867563E-3]
[null,null,"Sub Total (Mantenimiento)",null,null,{"$f":"SUM(F88:F94)","v":24561.883330647423},{"$f":"F95/$F$112","v":5.4614885811717508E-2}]
[null,null,null,null,null,null,null,null,"Compras insumos"]
[null,null,null,null,null,null,null,null,{"$f":"SUM(I27,I38,I49,I61,I71,I80)","v":72693.906675334059}]
[null,null,"Destrucción "]
[null,null,"Rastra pesada","Hr",{"$f":"'Presupuesto Cultivo Maíz'!L94+'Presupuesto Cultivo Soya'!L95","v":249.93747195700985},{"$f":"'Presupuesto Cultivo Maíz'!N94+'Presupuesto Cultivo Soya'!N95","v":7497.705086937025},{"$f":"F99/$F$112","v":1.6671616816209572E-2}]
[null,null,"Sub Total (Destrucción)",null,null,{"$f":"SUM(F99)","v":7497.705086937025},{"$f":"F100/$F$112","v":1.6671616816209572E-2}]
[]
[null,null,"Total Costos de Producción en Campo",null,null,{"$f":"F23+F34+F45+F57+F67+F76+F84+F95+F100","v":396266.55026824912},{"$f":"F102/$F$112","v":0.8811234913285122}]
[null,null,"Costos de Ventas Totales ($)",null,null,{"$f":"'Presupuesto Cultivo Maíz'!N98+'Presupuesto Cultivo Soya'!N99","v":25743.994038421435},{"$f":"F103/$F$112","v":5.7243383001968781E-2}]
[null,null,"Costos Variables Totales ($)",null,null,{"$f":"F102+F103","v":422010.54430667055},{"$f":"F104/$F$112","v":0.93836687433048094}]
[]
[]
[null,null,"Rendimiento promedio en QQ Oro/Ha",null,null,{"$f":"'Rendimientos & Supuestos '!G8","v":48.449999999999996}]
[null,null,"Producción Total en QQ Oro",null,null,{"$f":"'Presupuesto Cultivo Maíz'!N103+'Presupuesto Cultivo Soya'!N104","v":6000}]
[null,null,"Gastos Operativos por QQ Oro",null,null,{"$f":"'Gastos Operativos'!D21","v":4.6196979068329043}]
[null,null,"Costos Fijos Totales ($)",null,null,{"$f":"F108*F109","v":27718.187440997426},{"$f":"F110/$F$112","v":6.1633125669519014E-2}]
[]
[null,null,"Costos Totales ($)",null,null,{"$f":"F104+F110","v":449728.731747668},{"$f":"F112/$F$112","v":1},null,null,{"$f":"F112-BG!C24","v":445571.0036315184}]
[]
[]
[null,null,"Ingresos Totales ($)",null,null,{"$f":"'Presupuesto Cultivo Maíz'!N112+'Presupuesto Cultivo Soya'!N113","v":586746.80000000005}]
[]
[null,null,"Utilidad Operativa ($)",null,null,{"$f":"F115-F112","v":137018.06825233204}]

{"sheet":"PE$ - Múltiples Productos","index":12,"n_rows":40,"n_cols":9,"rows_kept":40,"cut":false,"hidden":false,"merged":[[2,1,2,8],[30,1,30,8],[32,1,32,8],[34,2,34,8],[35,1,35,7],[5,1,5,8],[24,1,24,8],[26,4,26,8],[22,1,22,8]]}
[]
[]
[null,"ANÁLISIS DEL PUNTO DE EQUILIBRIO MONETARIO- Múltiples Productos"]
[]
[]
[null,"Columnas"]
[null,1,2,3,4,5,6,7,8]
[null,"Producto ( i )","Precio de Venta (P)","Costo Variable Unitario (CVU)","CVU/P","1 - (CVU/P)","Pronóstico de Ventas Anuales ($)","% de Ventas","Contribución Ponderada (Col. 5 * Col. 7)"]
[null,"Maíz",{"$f":"'Presupuesto Cultivo Maíz'!D129","v":75.120000000000019},{"$f":"'Presupuesto Cultivo Maíz'!D128","v":51.491022974728573},{"$f":"D9/C9","v":0.68545025259223324},{"$f":"1-E9","v":0.31454974740776676},{"$f":"'Presupuesto Cultivo Maíz'!N112","v":300480.00000000006},{"$f":"G9/$G$11","v":0.51211186835616318},{"$f":"F9*H9","v":0.16108465883595063}]
[null,"Soya",{"$f":"'Presupuesto Cultivo Soya'!D129","v":143.13339999999999},{"$f":"'Presupuesto Cultivo Soya'!D128","v":108.02322620387814},{"$f":"D10/C10","v":0.7547031384979197},{"$f":"1-E10","v":0.2452968615020803},{"$f":"'Presupuesto Cultivo Soya'!N113","v":286266.80000000005},{"$f":"G10/$G$11","v":0.48788813164383688},{"$f":"F10*H10","v":0.11967742745634698}]
[null,"Total",null,null,null,null,{"$f":"SUM(G9:G10)","v":586746.80000000005},{"$f":"SUM(H9:H10)","v":1},{"$f":"SUM(I9:I10)","v":0.2807620862922976}]
[]
[]
[null,"Costos Fijos Totales:",null,{"$f":"'Presupuesto General'!F110","v":27718.187440997426}]
[]
[]
[]
[null,null,null,"=",{"$f":"D14/I11","v":98724.823593668552}]
[]
[]
[]
[]
[null,"Ventas Diarias para lograr el Punto de Equilibrio"]
[]
[null,"Dado que las ventanas de mercado de ventas de semillas se extienden aproximadamente a lo largo de 3 semanas cada una, suponiendo que se trabajan 6 días a la semana, entonces el total de días serían 6X6= 36 días, por lo que las ventas diarias serían igual a:"]
[]
[null,"Ventas diarias=","PE$/36 días=",{"$f":"E18/36","v":2742.3562109352374},"La Administración de la Finca El Yeguare ya sabe que debe generar ventas promedio de $2,742 al día durante las ventanas de mercado de primera y postrera, para poder lograr el equilibrio, es decir, cubrir los costos totales con los ingresos totales."]
[]
[]
[]
[null,"ANÁLISIS DEL PUNTO DE EQUILIBRIO FÍSICO- Múltiples Productos"]
[]
[null,"El gerente de la Finca El Yaguare quiere conocer el Punto de Equilibrio Físico para el número de quintales oro a vender al día para cada producto."]
[]
[null,"PEx Diario=","% de ventas * Ventas diarias / Precio de venta unitario de cada producto"]
[null,"Punto de Equilibrio Físico"]
[null,"Producto","% de Ventas","Ventas diarias","Precio de venta (P)","PEx Diario","PEx Anual","PE$"]
[null,"Maíz",{"$f":"H9","v":0.51211186835616318},{"$f":"$D$27","v":2742.3562109352374},{"$f":"C9","v":75.120000000000019},{"$f":"C38*D38/E38","v":18.695329644304742},{"$f":"F38*36","v":673.03186719497069},{"$f":"G38*E38","v":50558.15386368621}]
[null,"Soya",{"$f":"H10","v":0.48788813164383688},{"$f":"$D$27","v":2742.3562109352374},{"$f":"C10","v":143.13339999999999},{"$f":"C39*D39/E39","v":9.3476648221523746},{"$f":"F39*36","v":336.51593359748551},{"$f":"G39*E39","v":48166.669729982328}]
[null,"Total",null,null,null,null,null,{"$f":"SUM(H38:H39)","v":98724.823593668538}]

{"sheet":"Estado de Resultados","index":13,"n_rows":30,"n_cols":17,"rows_kept":30,"cut":false,"hidden":false,"merged":[[12,10,12,16],[9,11,9,12],[1,1,1,7]]}
[]
[null,"ESTADO DE RESULTADOS FINCA EL YEGUARE"]
[]
[null,null,"Maíz",null,"Soya",null,null,"Total","Vínculo"]
[null,"Ventas",{"$f":"C6*C7","v":300480.00000000006},null,{"$f":"E6*E7","v":286266.80000000005},null,null,{"$f":"SUM(C5,E5)","v":586746.80000000005},null,null,"Financiamiento"]
[null,"     Precio (L)",{"$f":"'Presupuesto Cultivo Maíz'!N111","v":75.120000000000019},null,{"$f":"'Presupuesto Cultivo Soya'!N112","v":143.13339999999999},null,null,null,null,null,"Cálculo del Financiamiento"]
[null,"     Cantidad (QQ)",{"$f":"'Presupuesto Cultivo Maíz'!N103","v":4000},null,{"$f":"'Presupuesto Cultivo Soya'!N104","v":2000.0000000000002},null,null,null,null,null,"Financiamiento bancario (valor)",100000]
[null,"(-) Devoluciones en ventas",0,null,0,null,null,{"$f":"SUM(C8,E8)","v":0},null,null,"Financiamiento bancario (tasa)",{"$f":"'[1]Rendimientos & Supuestos '!D9","v":0.2}]
[null,"Ventas Netas",{"$f":"C5-C8","v":300480.00000000006},null,{"$f":"E5-E8","v":286266.80000000005},null,null,{"$f":"H5-H8","v":586746.80000000005},"FC",null,"Financiamiento bancario (periodos)",{"$f":"'[1]Rendimientos & Supuestos '!D10","v":5},"años"]
[null,"(-) Costo de ventas",{"$f":"SUM(C11:C12)","v":205964.09189891428},null,{"$f":"SUM(E11:E12)","v":216046.4524077563},null,null,{"$f":"SUM(H11:H12)","v":422010.54430667055},null,null,"Modalidad","Pagos exactos"]
[null,"       (-) Costos producción en campo",{"$f":"'Presupuesto Cultivo Maíz'!N97","v":189731.70094161053},null,{"$f":"'Presupuesto Cultivo Soya'!N98","v":206534.84932663862},null,null,{"$f":"SUM(C11,E11)","v":396266.55026824912},"FC"]
[null,"       (-) Costos de empaque y transporte",{"$f":"'Presupuesto Cultivo Maíz'!N98","v":16232.390957303764},null,{"$f":"'Presupuesto Cultivo Soya'!N99","v":9511.6030811176715},null,null,{"$f":"SUM(C12,E12)","v":25743.994038421435},"FC"]
[null,"Utilidad Bruta",{"$f":"C5-C10","v":94515.908101085777},null,{"$f":"E5-E10","v":70220.34759224375},null,null,{"$f":"H5-H10","v":164736.2556933295},null,null,"Tabla de Amortización del Préstamo"]
[null,"(-) Gastos Operativos",{"$f":"SUM(C15:C18)","v":18478.791627331615},null,{"$f":"SUM(E15:E18)","v":9239.3958136658075},null,null,{"$f":"SUM(H15:H18)","v":27718.187440997426}]
[null,"       (-) Gastos de Administración",{"$f":"'Presupuesto Cultivo Maíz'!$N$105*0.7","v":12935.154139132132},null,{"$f":"'Presupuesto Cultivo Soya'!N106*0.7","v":6467.5770695660658},null,null,{"$f":"C15+E15","v":19402.731208698198},"BG",null,"Concepto","Año 0","Año 1","Año 2","Año 3","Año 4","Año 5"]
[null,"       (-) Gastos Generales",{"$f":"'Presupuesto Cultivo Maíz'!$N$105*0.1","v":1847.879162733162},null,{"$f":"'Presupuesto Cultivo Soya'!N106*0.1","v":923.93958136658102},null,null,{"$f":"C16+E16","v":2771.8187440997431},"BG",null,"Cuota anual (anualidad)",null,{"$f":"PMT($L$8,$L$9,-$L$7)","v":33437.970328961521},{"$f":"PMT($L$8,$L$9,-$L$7)","v":33437.970328961521},{"$f":"PMT($L$8,$L$9,-$L$7)","v":33437.970328961521},{"$f":"PMT($L$8,$L$9,-$L$7)","v":33437.970328961521},{"$f":"PMT($L$8,$L$9,-$L$7)","v":33437.970328961521}]
[null,"       (-) Gastos de ventas",{"$f":"'Presupuesto Cultivo Maíz'!$N$105*0.05","v":923.93958136658102},null,{"$f":"'Presupuesto Cultivo Soya'!N106*0.05","v":461.96979068329051},null,null,1385.9093720498715,"BG",null,"Intereses",null,{"$f":"L19*$L$8","v":20000},{"$f":"M19*$L$8","v":17312.405934207694},{"$f":"N19*$L$8","v":14087.293055256929},{"$f":"O19*$L$8","v":10217.15760051601},{"$f":"P19*$L$8","v":5572.995054826908}]
[null,"       (-) Gastos de depreciación",{"$f":"'Presupuesto Cultivo Maíz'!$N$105*0.15","v":2771.8187440997426},null,{"$f":"'Presupuesto Cultivo Soya'!N106*0.15","v":1385.9093720498713},null,null,4157.7281161496139,"BG",null,"Abono a capital (amortización)",null,{"$f":"M16-M17","v":13437.970328961521},{"$f":"N16-N17","v":16125.564394753826},{"$f":"O16-O17","v":19350.67727370459},{"$f":"P16-P17","v":23220.812728445511},{"$f":"Q16-Q17","v":27864.975274134613}]
[null,"(+) Otros ingresos",0,null,0,null,null,{"$f":"'Flujo de caja'!C30","v":100000},"FC",null,"Saldo crédito ",{"$f":"L7","v":100000},{"$f":"L19-M18","v":86562.029671038472},{"$f":"M19-N18","v":70436.465276284638},{"$f":"N19-O18","v":51085.788002580048},{"$f":"O19-P18","v":27864.975274134536},{"$f":"P19-Q18","v":-7.6397554948925972E-11}]
[null,"(-) Otros egresos",0,null,0,null,null,{"$f":"'Flujo de caja'!C26+'Flujo de caja'!C29","v":-85000},"FC"]
[null,"(-) Pérdidas",0,null,0,null,null,{"$f":"C21+E21","v":0}]
[null,"Utilidad Operativa",{"$f":"C13-C14+C19-C20-C21","v":76037.116473754169},null,{"$f":"E13-E14+E19-E20-E21","v":60980.951778577946},null,null,{"$f":"H13-H14+H19+H20+H21","v":152018.06825233207},null,null,"Cultivo","Maíz Tuxpeño","Soya","Total"]
[null,"(-) Gastos financieros (Intereses)",{"$f":"L24*$M$17","v":9981.2561520830477},null,{"$f":"M24*$M$17","v":10018.743847916954},null,null,{"$f":"SUM(C23,E23)","v":20000},"FC y ER",null,"Costos Totales",{"$f":"'Presupuesto Cultivo Maíz'!N107","v":224442.88352624589},{"$f":"'Presupuesto Cultivo Soya'!N108","v":225285.84822142211},{"$f":"SUM(L23:M23)","v":449728.731747668}]
[null,"Utilidad Antes de Impuestos (UAI)",{"$f":"C22-C23","v":66055.86032167112},null,{"$f":"E22-E23","v":50962.207930660996},null,null,{"$f":"H22-H23","v":132018.06825233207},null,null,"Ponderación",{"$f":"L23/$N$23","v":0.49906280760415239},{"$f":"M23/$N$23","v":0.50093719239584766},{"$f":"N23/$N$23","v":1}]
[null,"(-) Impuestos (Impuestos Sobre la Renta y otros que apliquen)",{"$f":"C24*0.25","v":16513.96508041778},null,{"$f":"E24*0.25","v":12740.551982665249},null,null,{"$f":"SUM(C25,E25)","v":29254.517063083029},"BG y FC"]
[null,"Utilidad Neta",{"$f":"C24-C25","v":49541.89524125334},null,{"$f":"E24-E25","v":38221.65594799575},null,null,{"$f":"H24-H25","v":102763.55118924905},"BG"]
[null,"(-) Pago de dividendos (25%)",{"$f":"C26*0.25","v":12385.473810313335},null,{"$f":"E26*0.25","v":9555.4139869989376},null,null,{"$f":"C27+E27","v":21940.887797312273}]
[null,"Utilidades Retenidas (Utilidades del ejercicio)",{"$f":"C26-C27","v":37156.421430940005},null,{"$f":"E26-E27","v":28666.241960996813},null,null,{"$f":"H26-H27","v":80822.663391936774},"BG"]
[]
[null,"Rentabilidad",{"$f":"C26/(C8+C10+C14+C20+C21+C23+C25)","v":0.19742675305881979},null,{"$f":"E26/(E8+E10+E14+E20+E21+E23+E25)","v":0.15409153077385915},null,null,{"$f":"H26/(H8+H10+H14+H20+H21+H23+H25)","v":0.24823118202115116}]

{"sheet":"BG","index":14,"n_rows":33,"n_cols":5,"rows_kept":33,"cut":false,"hidden":false,"merged":[[0,1,0,4],[1,1,1,4],[2,1,2,4],[4,1,4,2],[4,3,4,4]]}
[null,"FINCA EL YEGUARE"]
[null,"Balance General - Estado de Situación Financiera"]
[null,"31 de diciembre del 2022"]
[]
[null,"ACTIVO",null,"PASIVO Y CAPITAL DE LOS ACCIONISTAS"]
[null,"Activo Circulante",null,"Pasivo Circulante"]
[null,"Efectivo",2000,"Cuentas por pagar",{"$f":"C11","v":1000}]
[null,"Cuentas bancarias",{"$f":"112542.421179125+'Flujo de caja'!C30+'Flujo de caja'!C37+'Flujo de caja'!C38+'Flujo de caja'!C26+'Flujo de caja'!C29","v":327542.42117912497},"Facturas por pagar/ deuda corto plazo",{"$f":"-'Flujo de caja'!C34-'Flujo de caja'!C35","v":33437.970328961521}]
[null,"Cuentas por cobrar",{"$f":"'Flujo de caja'!C11","v":15000},"Servicios públicos por pagar",0]
[null,"Inventarios",null,"Salarios",0]
[null,"          Materia prima (insumos)",{"$f":"'Flujo de caja'!C20","v":1000},"         Total Pasivos Circulantes",{"$f":"SUM(E7:E10)","v":34437.970328961521}]
[null,"          Producto en proceso",0]
[null,"          Producto terminado",0]
[null,"Otros Activos Circulantes",0,"Deudas de Largo Plazo"]
[null,"         Total Activo Circulante",{"$f":"SUM(C7:C14)","v":345542.42117912497},"Préstamo por pagar (deuda largo plazo)",{"$f":"'Estado de Resultados'!M19","v":86562.029671038472}]
[null,null,null,"Oblig. Por arrendamiento de capital",0]
[null,null,null,"Impuestos por pagar",0]
[null,"Activo Fijo",null,"         Total Pasivos de Largo Plazo",{"$f":"SUM(E15:E17)","v":86562.029671038472}]
[null,"Maquinaria y equipo en campo",{"$f":"150000-'Flujo de caja'!C29-'Flujo de caja'!C30","v":120000}]
[null,"Maquinaria y equipo en planta",{"$f":"300000-'Flujo de caja'!C26","v":315000}]
[null,"Terrenos",800000,"TOTAL DE PASIVOS",{"$f":"E11+E18","v":121000}]
[null,"Edificios",500000]
[null,"Equipo de transporte",50000]
[null,"Menos la depreciación acumulada",{"$f":"'Estado de Resultados'!H18","v":4157.7281161496139}]
[null,"Propiedad, planta y equipo neto",{"$f":"SUM(C19:C24)","v":1789157.7281161495},"CAPITAL DE LOS ACCIONISTAS"]
[null,"Otros Activos Fijos",null,"Capital social",{"$f":"C33-E21-E27-E28-E29","v":1877877.4859033378}]
[null,"          Marca",50000,"Aportaciones de capital",{"$f":"'Flujo de caja'!C38","v":100000}]
[null,"          Patentes de productos",25000,"Utilidades retenidas acumuladas",30000]
[null,"         Total de Activos al Largo Plazo",{"$f":"C25+C27+C28","v":1864157.7281161495},"Utilidad del período o del ejercicio",{"$f":"'Estado de Resultados'!H28","v":80822.663391936774}]
[null,null,null,"         Total Capital o Patrimonio Neto",{"$f":"SUM(E26:E29)","v":2088700.1492952746}]
[]
[]
[null,"TOTAL DE ACTIVOS",{"$f":"SUM(C15,C29)","v":2209700.1492952746},"TOTAL PASIVO Y CAPITAL",{"$f":"E21+E30","v":2209700.1492952746}]

{"sheet":"Flujo de caja","index":15,"n_rows":43,"n_cols":4,"rows_kept":43,"cut":false,"hidden":false,"merged":[[32,1,32,2],[1,1,1,3],[2,1,2,3],[3,1,3,3],[4,1,4,3],[6,1,6,2],[24,1,24,2]]}
[]
[null,"FINCA EL YEGUARE S.A"]
[null,"ESTADO DE FLUJO DE CAJA O DE EFECTIVO"]
[null,"AÑO 2022"]
[null,"MÉTODO DIRECTO"]
[]
[null,"ACTIVIDADES OPERACIONALES",null,"Vínculo"]
[null,"Recaudo de cuentas por cobrar a  clientes",{"$f":"C9+C10-C11","v":566746.80000000005}]
[null,"        Ventas netas",{"$f":"'Estado de Resultados'!H9-BG!C9","v":571746.80000000005},"ER"]
[null,"        Saldo final cuentas por cobrar año 2021",10000]
[null,"        Saldo final cuentas por cobrar",15000]
[null,"(-) Pagos por salarios de mano de obra directa",{"$f":"-(SUM('Presupuesto General'!F32:F33)+SUM('Presupuesto General'!F43:F44)+SUM('Presupuesto General'!F56)+SUM('Presupuesto General'!F65:F66)+SUM('Presupuesto General'!F71:F72)+'Presupuesto General'!F74+'Presupuesto General'!F80+'Presupuesto General'!F81+SUM('Presupuesto General'!F95))","v":-145171.13885879051},"ER"]
[null,"(-) Pagos gastos de administración",{"$f":"-'Estado de Resultados'!H15","v":-19402.731208698198},"ER"]
[null,"(-) Pagos gastos generales",{"$f":"-'Estado de Resultados'!H16","v":-2771.8187440997431},"ER"]
[null,"(-) Pagos gastos de ventas + transporte",{"$f":"-'Estado de Resultados'!H17-('Presupuesto General'!F103*'Costos de Ventas'!G14)-'Presupuesto General'!F83","v":-18698.062118296781},"ER"]
[null,"(-) Pagos gastos de impuestos",{"$f":"-'Estado de Resultados'!H25","v":-29254.517063083029},"ER"]
[null,"(-) Pagos a proveedores",{"$f":"-(C18+C19-C20)-C21","v":-261527.25270163312}]
[null,"        Compras",{"$f":"SUM('Presupuesto General'!F27:F31)+SUM('Presupuesto General'!F38:F42)+SUM('Presupuesto General'!F49:F55)+SUM('Presupuesto General'!F61:F64)+SUM('Presupuesto General'!F82)+('Presupuesto General'!F103*(1-'Costos de Ventas'!G14))","v":85530.869308438036},"BG y ER"]
[null,"        Saldo final cuentas por pagar 2021",3000]
[null,"        Saldo final cuentas por pagar",1000,"BG"]
[null,"        Proveedores de servicios de maquinaria",{"$f":"'Presupuesto General'!F23+'Presupuesto General'!F75+'Presupuesto General'!F99","v":173996.38339319508},"BG y ER"]
[null,"(-) Otras cuentas por pagar",0]
[null,"Flujo de efectivo operativo",{"$f":"C8+C12+C14+C15+C13+C16+C17+C22","v":89921.279305398668}]
[]
[null,"ACTIVIDADES DE INVERSIÓN",null,"Vínculo"]
[null,"Compra propiedad, planta y equipo",{"$f":"-C27-C28","v":-15000},"BG y ER"]
[null,"        Secadora",5000]
[null,"        Desgranadora",10000]
[null,"Compra de tractor",-70000,"BG y ER"]
[null,"Venta de tractores viejos",100000,"BG y ER"]
[null,"Flujo de efectivo por actividades de inversión",{"$f":"C26+C29+C30","v":15000}]
[]
[null,"ACTIVIDADES DE FINANCIAMIENTO",null,"Vínculo"]
[null,"Pago gastos financieros (intereses)",{"$f":"-'Estado de Resultados'!M17","v":-20000},"ER"]
[null,"Abono a deuda de largo plazo",{"$f":"-'Estado de Resultados'!M18","v":-13437.970328961521},"BG"]
[null,"Pago de dividendos",{"$f":"-'Estado de Resultados'!H27","v":-21940.887797312273},"ER"]
[null,"Aumento deuda largo plazo (préstamo)",{"$f":"'Estado de Resultados'!L7","v":100000},"BG"]
[null,"Aportación de capital",100000,"BG"]
[null,"Flujo de efectivo actividades de financiamiento",{"$f":"SUM(C34:C38)","v":144621.14187372621}]
[]
[null,"AUMENTO EN EL EFECTIVO",{"$f":"C23+C31+C39","v":249542.42117912488},"Vínculo"]
[null,"EFECTIVO (Caja, bancos, etc.) año 2021",80000,"BG"]
[null,"FLUJO DE EFECTIVO NETO (Caja, bancos, etc.) año 2022",{"$f":"C41+C42","v":329542.42117912485}]